BEGIN:VCALENDAR
VERSION:2.0
PRODID:-//Events | FID-Recht//NONSGML Events//EN
CALSCALE:GREGORIAN
X-ORIGINAL-URL:https://events.intrecht.de/termine/
X-WR-CALDESC:Events | FID-Recht - Events
BEGIN:VEVENT
UID:20200603T1418Z-1591193923.3362-EO-587-1@172.16.200.141
STATUS:CONFIRMED
DTSTAMP:20260423T034413Z
CREATED:20250225T161110Z
LAST-MODIFIED:20250225T161110Z
DTSTART;VALUE=DATE:20251119
DTEND;VALUE=DATE:20251122
SUMMARY: Thicker Notions of Human Rights Accountabilities (Conference)
DESCRIPTION: 19.-21.11.2025 / Brüssel (Einreichungsfrist: 20.4.2025) https:
 //futureproofinghumanrights.org/wp-content/uploads/2025/01/Call-for-Abstrac
 ts-IBOF-Thicker-Notions-of-Human-RIghts-Accountabilities-Closing-Conference
 .pdf
X-ALT-DESC;FMTTYPE=text/html: <p>19.-21.11.2025 / Brüssel <strong>(Einreich
 ungsfrist: 20.4.2025)</strong></p><p><a href="https://futureproofinghumanri
 ghts.org/wp-content/uploads/2025/01/Call-for-Abstracts-IBOF-Thicker-Notions
 -of-Human-RIghts-Accountabilities-Closing-Conference.pdf">https://futurepro
 ofinghumanrights.org/wp-content/uploads/2025/01/Call-for-Abstracts-IBOF-Thi
 cker-Notions-of-Human-RIghts-Accountabilities-Closing-Conference.pdf</a></p
 ><p>[av_button label='iCal-Export' link='./feed/eo-events' link_target='' s
 ize='small' position='center' label_display='' title_attr='' icon_select='y
 es' icon='ue85b' font='entypo-fontello' color='custom' custom_bg='#b5123e' 
 custom_font='#ffffff' av_uid='' id='' custom_class='' admin_preview_bg='']<
 /p>
CATEGORIES:Europäisches / Internationales Recht
LOCATION:Ausland
GEO:0.000000;0.000000
ORGANIZER;CN="ViFa-Recht":MAILTO:vifa-recht@sbb.spk-berlin.de
URL;VALUE=URI:https://events.intrecht.de/termine/termin/thicker-notions-of-
 human-rights-accountabilities-conference/
END:VEVENT
BEGIN:VTIMEZONE
TZID:Europe/Berlin
BEGIN:STANDARD
TZOFFSETFROM:+0200
TZOFFSETTO:+0100
DTSTART:20251026T010000
TZNAME:CET
END:STANDARD
END:VTIMEZONE
END:VCALENDAR
