BEGIN:VCALENDAR
VERSION:2.0
PRODID:-//Events | FID-Recht//NONSGML Events//EN
CALSCALE:GREGORIAN
X-ORIGINAL-URL:https://events.intrecht.de/termine/
X-WR-CALDESC:Events | FID-Recht - Events
BEGIN:VEVENT
UID:20220610T0221Z-1654827697.1357-EO-4034-1@172.16.200.151
STATUS:CONFIRMED
DTSTAMP:20260425T231139Z
CREATED:20220608T084639Z
LAST-MODIFIED:20220608T084639Z
DTSTART;VALUE=DATE:20220609
DTEND;VALUE=DATE:20220609
SUMMARY: Theorizing Power in Digital Society – Rethinking Power\, Networks\
 , Social Capital and Interaction (with Ori Schwarz) (Vortrag)
DESCRIPTION: 9.6.2022\, Hamburg 2022-06-09: Theorizing Power in Digital Soc
 iety: Rethinking Power\, Networks\, Social Capital and Interaction | Max Pl
 anck Institute for Comparative and International Private Law (mpipriv.de)  
   
X-ALT-DESC;FMTTYPE=text/html: <p>9.6.2022\, Hamburg</p><p><a href="https://
 www.mpipriv.de/events/31430/2376">2022-06-09: Theorizing Power in Digital S
 ociety: Rethinking Power\, Networks\, Social Capital and Interaction | Max 
 Planck Institute for Comparative and International Private Law (mpipriv.de)
 </a></p><p> </p><p> </p><p>[av_button label='iCal-Export' link='./feed/eo-e
 vents' link_target='' size='small' position='center' label_display='' title
 _attr='' icon_select='yes' icon='ue85b' font='entypo-fontello' color='custo
 m' custom_bg='#b5123e' custom_font='#ffffff' av_uid='' id='' custom_class='
 ' admin_preview_bg='']</p>
CATEGORIES:Recht interdisziplinär
LOCATION:Inland
GEO:0.000000;0.000000
ORGANIZER;CN="ViFa-Recht":MAILTO:vifa-recht@sbb.spk-berlin.de
URL;VALUE=URI:https://events.intrecht.de/termine/termin/theorizing-power-in
 -digital-society-rethinking-power-networks-social-capital-and-interaction-w
 ith-ori-schwarz-vortrag/
END:VEVENT
BEGIN:VTIMEZONE
TZID:Europe/Berlin
BEGIN:DAYLIGHT
TZOFFSETFROM:+0100
TZOFFSETTO:+0200
DTSTART:20220327T010000
TZNAME:CEST
END:DAYLIGHT
END:VTIMEZONE
END:VCALENDAR
