BEGIN:VCALENDAR
VERSION:2.0
PRODID:-//Events | FID-Recht//NONSGML Events//EN
CALSCALE:GREGORIAN
X-ORIGINAL-URL:https://events.intrecht.de/termine/
X-WR-CALDESC:Events | FID-Recht - Events
BEGIN:VEVENT
UID:20200814T1449Z-1597416580.5868-EO-1301-1@172.16.200.141
STATUS:CONFIRMED
DTSTAMP:20260422T194253Z
CREATED:20200730T181643Z
LAST-MODIFIED:20200730T181643Z
DTSTART;VALUE=DATE:20210923
DTEND;VALUE=DATE:20210925
SUMMARY: Théorie du droit\, philosophie du droit\, philosophie politique: é
 tat des lieux – Premières Rencontres de la SFPJ (IVR Section France) (Konfe
 renz)
DESCRIPTION: 23.-24.9.2021\, Nizza https://www.philosophiejuridique.com/pos
 t/report-des-rencontres-de-nice-postponement-of-sfpj-conference https://las
 fpj.wixsite.com/rencontres  
X-ALT-DESC;FMTTYPE=text/html: <p>23.-24.9.2021\, Nizza</p><p><a href="https
 ://www.philosophiejuridique.com/post/report-des-rencontres-de-nice-postpone
 ment-of-sfpj-conference">https://www.philosophiejuridique.com/post/report-d
 es-rencontres-de-nice-postponement-of-sfpj-conference</a></p><p><a href="ht
 tps://lasfpj.wixsite.com/rencontres">https://lasfpj.wixsite.com/rencontres<
 /a></p><p> </p><p>[av_button label='iCal-Export' link='./feed/eo-events' li
 nk_target='' size='small' position='center' label_display='' title_attr='' 
 icon_select='yes' icon='ue85b' font='entypo-fontello' color='custom' custom
 _bg='#b5123e' custom_font='#ffffff' av_uid='' id='' custom_class='' admin_p
 review_bg='']</p>
CATEGORIES:Recht interdisziplinär
LOCATION:Ausland
GEO:0.000000;0.000000
ORGANIZER;CN="ViFa-Recht":MAILTO:vifa-recht@sbb.spk-berlin.de
URL;VALUE=URI:https://events.intrecht.de/termine/termin/theorie-du-droit-ph
 ilosophie-du-droit-philosophie-politique-etat-des-lieux-premieres-rencontre
 s-de-la-sfpj-ivr-section-france-konferenz/
END:VEVENT
BEGIN:VTIMEZONE
TZID:Europe/Berlin
BEGIN:DAYLIGHT
TZOFFSETFROM:+0100
TZOFFSETTO:+0200
DTSTART:20210328T010000
TZNAME:CEST
END:DAYLIGHT
END:VTIMEZONE
END:VCALENDAR
