BEGIN:VCALENDAR
VERSION:2.0
PRODID:-//Events | FID-Recht//NONSGML Events//EN
CALSCALE:GREGORIAN
X-ORIGINAL-URL:https://events.intrecht.de/termine/
X-WR-CALDESC:Events | FID-Recht - Events
BEGIN:VEVENT
UID:20210124T1328Z-1611494910.9972-EO-2529-1@172.16.200.141
STATUS:CONFIRMED
DTSTAMP:20260420T111440Z
CREATED:20210122T104558Z
LAST-MODIFIED:20210122T104558Z
DTSTART;VALUE=DATE:20211015
DTEND;VALUE=DATE:20211015
SUMMARY: Themenheft „Legal Gender Studies“ der Zeitschrift ‚Rechtskultur‘ (
 Call for articles)
DESCRIPTION: Call for articles Anfang 2022 wird der zehnte Band der Zeitsch
 rift „Rechtskultur – European Journal of Legal History – Journal européene 
 d’histoire du droit“ erscheinen. Themenschwerpunkt ist „Legal Gender Studie
 s“. Die Herausgeber der „Rechtskultur“ laden Wissenschaftler*innen aller ei
 nschlägigen Fachdisziplinen zur Einreichung von Beiträgen ein. Die Beiträge
  sollen bis zum 15. Oktober 2021 bei der Redaktion […]
X-ALT-DESC;FMTTYPE=text/html: <p><strong><span style="font-size: 10.0pt\; f
 ont-family: 'Segoe UI'\,sans-serif\;">Call for articles</span></strong></p>
 <p><span style="font-size: 10.0pt\; font-family: 'Segoe UI'\,sans-serif\;">
 Anfang 2022 wird der zehnte Band der Zeitschrift "Rechtskultur - European J
 ournal of Legal History - Journal européene d'histoire du droit" erscheinen
 . Themenschwerpunkt ist "Legal Gender Studies".</span></p><p><span style="f
 ont-size: 10.0pt\; font-family: 'Segoe UI'\,sans-serif\;">Die Herausgeber d
 er "Rechtskultur" laden Wissenschaftler*innen aller einschlägigen Fachdiszi
 plinen zur Einreichung von Beiträgen ein. Die Beiträge sollen bis zum 15. O
 ktober 2021 bei der Redaktion eingehen\, die unter <a href="mailto:rechtsku
 ltur@ur.de">rechtskultur@ur.de</a> erreichbar ist.</span></p><p><span style
 ="font-size: 10.0pt\; font-family: 'Segoe UI'\,sans-serif\;">"Rechtskultur"
  steht Autor*innen aller einschlägigen Wissenschaftsdisziplinen ohne Ansehe
 n des universitären Status offen. Kriterien sind allein Themenbezug und Qua
 lität eines Aufsatzes. Alle Manuskripte werden einer beiderseits anonymen B
 egutachtung unterzogen (double-blind peer review). </span></p><p><span styl
 e="font-size: 10.0pt\; font-family: 'Segoe UI'\,sans-serif\;">Weitere Infor
 mationen und Guidelines für Autor*innen finden sich unter</span></p><p><spa
 n style="font-size: 10.0pt\; font-family: 'Segoe UI'\,sans-serif\;"><a href
 ="https://www.rechtskultur.org/"><span style="color: #0066cc\;">www.rechtsk
 ultur.org</span></a></span></p><p> </p><p>[av_button label='iCal-Export' li
 nk='./feed/eo-events' link_target='' size='small' position='center' label_d
 isplay='' title_attr='' icon_select='yes' icon='ue85b' font='entypo-fontell
 o' color='custom' custom_bg='#b5123e' custom_font='#ffffff' av_uid='' id=''
  custom_class='' admin_preview_bg='']</p>
CATEGORIES:Recht interdisziplinär
LOCATION:Online
GEO:0.000000;0.000000
ORGANIZER;CN="ViFa-Recht":MAILTO:vifa-recht@sbb.spk-berlin.de
URL;VALUE=URI:https://events.intrecht.de/termine/termin/themenheft-legal-ge
 nder-studies-der-zeitschrift-rechtskultur-call-for-articles/
END:VEVENT
BEGIN:VTIMEZONE
TZID:Europe/Berlin
BEGIN:DAYLIGHT
TZOFFSETFROM:+0100
TZOFFSETTO:+0200
DTSTART:20210328T010000
TZNAME:CEST
END:DAYLIGHT
END:VTIMEZONE
END:VCALENDAR
