BEGIN:VCALENDAR
VERSION:2.0
PRODID:-//Events | FID-Recht//NONSGML Events//EN
CALSCALE:GREGORIAN
X-ORIGINAL-URL:https://events.intrecht.de/termine/
X-WR-CALDESC:Events | FID-Recht - Events
BEGIN:VEVENT
UID:20201005T1821Z-1601922090.5748-EO-1661-1@172.16.200.141
STATUS:CONFIRMED
DTSTAMP:20260422T090022Z
CREATED:20201002T103316Z
LAST-MODIFIED:20201002T103316Z
DTSTART;VALUE=DATE:20211006
DTEND;VALUE=DATE:20211009
SUMMARY: Thematic Congress of the IACL: Diversity and Plurality in Law (Kon
 ferenz)
DESCRIPTION: 6.-8.10.2021\, Pretoria https://aidc-iacl.org/thematic-congres
 ses/  
X-ALT-DESC;FMTTYPE=text/html: <p>6.-8.10.2021\, Pretoria</p><p><a href="htt
 ps://aidc-iacl.org/thematic-congresses/">https://aidc-iacl.org/thematic-con
 gresses/</a></p><p> </p><p>[av_button label='iCal-Export' link='./feed/eo-e
 vents' link_target='' size='small' position='center' label_display='' title
 _attr='' icon_select='yes' icon='ue85b' font='entypo-fontello' color='custo
 m' custom_bg='#b5123e' custom_font='#ffffff' av_uid='' id='' custom_class='
 ' admin_preview_bg='']</p>
CATEGORIES:Recht interdisziplinär
LOCATION:Ausland
GEO:0.000000;0.000000
ORGANIZER;CN="ViFa-Recht":MAILTO:vifa-recht@sbb.spk-berlin.de
URL;VALUE=URI:https://events.intrecht.de/termine/termin/thematic-congress-o
 f-the-iacl-diversity-and-plurality-in-law-konferenz/
END:VEVENT
BEGIN:VTIMEZONE
TZID:Europe/Berlin
BEGIN:DAYLIGHT
TZOFFSETFROM:+0100
TZOFFSETTO:+0200
DTSTART:20210328T010000
TZNAME:CEST
END:DAYLIGHT
END:VTIMEZONE
END:VCALENDAR
