BEGIN:VCALENDAR
VERSION:2.0
PRODID:-//Events | FID-Recht//NONSGML Events//EN
CALSCALE:GREGORIAN
X-ORIGINAL-URL:https://events.intrecht.de/termine/
X-WR-CALDESC:Events | FID-Recht - Events
BEGIN:VEVENT
UID:20200603T1418Z-1591193923.3362-EO-587-1@172.16.200.141
STATUS:CONFIRMED
DTSTAMP:20260422T175347Z
CREATED:20240816T105522Z
LAST-MODIFIED:20240816T105522Z
DTSTART;VALUE=DATE:20241023
DTEND;VALUE=DATE:20241025
SUMMARY: Thematic and Disciplinary Challenges in Socio-Legal Studies: the J
 LS 50th anniversary PhD/ early career scholar conference
DESCRIPTION: 23.-24.10.2024 / Cardiff (Einreichungsfrist: 9.9.2024) https:/
 /centreoflawandsociety.co.uk/events/
X-ALT-DESC;FMTTYPE=text/html: <p>23.-24.10.2024 / Cardiff <strong>(Einreich
 ungsfrist: 9.9.2024)</strong></p><p><a href="https://centreoflawandsociety.
 co.uk/events/">https://centreoflawandsociety.co.uk/events/</a></p><p>[av_bu
 tton label='iCal-Export' link='./feed/eo-events' link_target='' size='small
 ' position='center' label_display='' title_attr='' icon_select='yes' icon='
 ue85b' font='entypo-fontello' color='custom' custom_bg='#b5123e' custom_fon
 t='#ffffff' av_uid='' id='' custom_class='' admin_preview_bg='']</p>
CATEGORIES:Recht interdisziplinär
LOCATION:Ausland
GEO:0.000000;0.000000
ORGANIZER;CN="ViFa-Recht":MAILTO:vifa-recht@sbb.spk-berlin.de
URL;VALUE=URI:https://events.intrecht.de/termine/termin/thematic-and-discip
 linary-challenges-in-socio-legal-studies-the-jls-50th-anniversary-phd-early
 -career-scholar-conference/
END:VEVENT
BEGIN:VTIMEZONE
TZID:Europe/Berlin
BEGIN:DAYLIGHT
TZOFFSETFROM:+0100
TZOFFSETTO:+0200
DTSTART:20240331T010000
TZNAME:CEST
END:DAYLIGHT
END:VTIMEZONE
END:VCALENDAR
