BEGIN:VCALENDAR
VERSION:2.0
PRODID:-//Events | FID-Recht//NONSGML Events//EN
CALSCALE:GREGORIAN
X-ORIGINAL-URL:https://events.intrecht.de/termine/
X-WR-CALDESC:Events | FID-Recht - Events
BEGIN:VEVENT
UID:20200603T1418Z-1591193923.3362-EO-587-1@172.16.200.141
STATUS:CONFIRMED
DTSTAMP:20260426T045711Z
CREATED:20230614T120537Z
LAST-MODIFIED:20230614T120537Z
DTSTART;VALUE=DATE:20230913
DTEND;VALUE=DATE:20230915
SUMMARY: The Vulnerable Accused in the Criminal Justice System (Conference)
DESCRIPTION: 13.-14.9.2023 / Birmingham https://www.birmingham.ac.uk/school
 s/law/events/2023/the-vulnerable-accused-in-the-criminal-justice-system-con
 ference.aspx
X-ALT-DESC;FMTTYPE=text/html: <p>13.-14.9.2023 / Birmingham</p><p><a href="
 https://www.birmingham.ac.uk/schools/law/events/2023/the-vulnerable-accused
 -in-the-criminal-justice-system-conference.aspx">https://www.birmingham.ac.
 uk/schools/law/events/2023/the-vulnerable-accused-in-the-criminal-justice-s
 ystem-conference.aspx</a></p><p>[av_button label='iCal-Export' link='./feed
 /eo-events' link_target='' size='small' position='center' label_display='' 
 title_attr='' icon_select='yes' icon='ue85b' font='entypo-fontello' color='
 custom' custom_bg='#b5123e' custom_font='#ffffff' av_uid='' id='' custom_cl
 ass='' admin_preview_bg='']</p>
CATEGORIES:Strafrecht
LOCATION:Ausland
GEO:0.000000;0.000000
ORGANIZER;CN="ViFa-Recht":MAILTO:vifa-recht@sbb.spk-berlin.de
URL;VALUE=URI:https://events.intrecht.de/termine/termin/the-vulnerable-accu
 sed-in-the-criminal-justice-system-conference/
END:VEVENT
BEGIN:VTIMEZONE
TZID:Europe/Berlin
BEGIN:DAYLIGHT
TZOFFSETFROM:+0100
TZOFFSETTO:+0200
DTSTART:20230326T010000
TZNAME:CEST
END:DAYLIGHT
END:VTIMEZONE
END:VCALENDAR
