BEGIN:VCALENDAR
VERSION:2.0
PRODID:-//Events | FID-Recht//NONSGML Events//EN
CALSCALE:GREGORIAN
X-ORIGINAL-URL:https://events.intrecht.de/termine/
X-WR-CALDESC:Events | FID-Recht - Events
BEGIN:VEVENT
UID:20200603T1418Z-1591193923.3362-EO-587-1@172.16.200.141
STATUS:CONFIRMED
DTSTAMP:20260422T225145Z
CREATED:20241202T174341Z
LAST-MODIFIED:20241202T174341Z
DTSTART;VALUE=DATE:20250515
DTEND;VALUE=DATE:20250517
SUMMARY: The Venice Commission 1990-2025. Taking stock of 35 years for demo
 cracy through law (Conference)
DESCRIPTION: 15.-16.5.2025 / Mailand (Einreichungsfrist: 31.1.2025) https:/
 /www.associazionedeicostituzionalisti.it/images/articoli/Call_for_papers_Th
 e_Venice_Commission_1990_2025_31_gennaio_2025.pdf
X-ALT-DESC;FMTTYPE=text/html: <p>15.-16.5.2025 / Mailand <strong>(Einreichu
 ngsfrist: 31.1.2025)</strong></p><p><a href="https://www.associazionedeicos
 tituzionalisti.it/images/articoli/Call_for_papers_The_Venice_Commission_199
 0_2025_31_gennaio_2025.pdf">https://www.associazionedeicostituzionalisti.it
 /images/articoli/Call_for_papers_The_Venice_Commission_1990_2025_31_gennaio
 _2025.pdf</a></p><p>[av_button label='iCal-Export' link='./feed/eo-events' 
 link_target='' size='small' position='center' label_display='' title_attr='
 ' icon_select='yes' icon='ue85b' font='entypo-fontello' color='custom' cust
 om_bg='#b5123e' custom_font='#ffffff' av_uid='' id='' custom_class='' admin
 _preview_bg='']</p>
CATEGORIES:Europäisches / Internationales Recht
LOCATION:Ausland
GEO:0.000000;0.000000
ORGANIZER;CN="ViFa-Recht":MAILTO:vifa-recht@sbb.spk-berlin.de
URL;VALUE=URI:https://events.intrecht.de/termine/termin/the-venice-commissi
 on-1990-2025-taking-stock-of-35-years-for-democracy-through-law-conference/
END:VEVENT
BEGIN:VTIMEZONE
TZID:Europe/Berlin
BEGIN:DAYLIGHT
TZOFFSETFROM:+0100
TZOFFSETTO:+0200
DTSTART:20250330T010000
TZNAME:CEST
END:DAYLIGHT
END:VTIMEZONE
END:VCALENDAR
