BEGIN:VCALENDAR
VERSION:2.0
PRODID:-//Events | FID-Recht//NONSGML Events//EN
CALSCALE:GREGORIAN
X-ORIGINAL-URL:https://events.intrecht.de/termine/
X-WR-CALDESC:Events | FID-Recht - Events
BEGIN:VEVENT
UID:20201105T1228Z-1604579332.9489-EO-2101-1@172.16.200.141
STATUS:CONFIRMED
DTSTAMP:20260421T200141Z
CREATED:20201105T122733Z
LAST-MODIFIED:20201105T122744Z
DTSTART;TZID=Europe/Berlin:20201105T190000
DTEND;TZID=Europe/Berlin:20201105T210000
SUMMARY: The US Presidential Election and the Future of Democracy (mit Susa
 n Neiman\, Rainer Forst\, Christoph Möllers und Michael Zürn) (Online-Podiu
 msdiskussion)
DESCRIPTION:  5.11.2020\, Online https://www.wzb.eu/en/events/the-us-presid
 ential-election-and-the-future-of-democracy  
X-ALT-DESC;FMTTYPE=text/html: <p><strong> </strong>5.11.2020\, Online</p><p
 ><a href="https://www.wzb.eu/en/events/the-us-presidential-election-and-the
 -future-of-democracy">https://www.wzb.eu/en/events/the-us-presidential-elec
 tion-and-the-future-of-democracy</a></p><p> </p><p>[av_button label='iCal-E
 xport' link='./feed/eo-events' link_target='' size='small' position='center
 ' label_display='' title_attr='' icon_select='yes' icon='ue85b' font='entyp
 o-fontello' color='custom' custom_bg='#b5123e' custom_font='#ffffff' av_uid
 ='' id='' custom_class='' admin_preview_bg='']</p>
CATEGORIES:Öffentliches Recht
LOCATION:Online
GEO:0.000000;0.000000
ORGANIZER;CN="ViFa-Recht":MAILTO:vifa-recht@sbb.spk-berlin.de
URL;VALUE=URI:https://events.intrecht.de/termine/termin/the-us-presidential
 -election-and-the-future-of-democracy-mit-susan-neiman-rainer-forst-christo
 ph-moellers-und-michael-zuern-online-podiumsdiskussion/
END:VEVENT
BEGIN:VTIMEZONE
TZID:Europe/Berlin
BEGIN:STANDARD
TZOFFSETFROM:+0200
TZOFFSETTO:+0100
DTSTART:20201025T010000
TZNAME:CET
END:STANDARD
END:VTIMEZONE
END:VCALENDAR
