BEGIN:VCALENDAR
VERSION:2.0
PRODID:-//Events | FID-Recht//NONSGML Events//EN
CALSCALE:GREGORIAN
X-ORIGINAL-URL:https://events.intrecht.de/termine/
X-WR-CALDESC:Events | FID-Recht - Events
BEGIN:VEVENT
UID:20200603T1418Z-1591193923.3362-EO-587-1@172.16.200.141
STATUS:CONFIRMED
DTSTAMP:20260425T145712Z
CREATED:20230423T155309Z
LAST-MODIFIED:20230423T155309Z
DTSTART;VALUE=DATE:20231128
DTEND;VALUE=DATE:20231129
SUMMARY: The Unreliable Human Mind: False Memories and Biased Judgments in 
 the Context of Legal Decision Making (Vortrag)
DESCRIPTION: 28.11.2023 / Freiburg https://csl.mpg.de/events/33792/3123
X-ALT-DESC;FMTTYPE=text/html: <p>28.11.2023 / Freiburg</p><p><a href="https
 ://csl.mpg.de/events/33792/3123">https://csl.mpg.de/events/33792/3123</a></
 p><p>[av_button label='iCal-Export' link='./feed/eo-events' link_target='' 
 size='small' position='center' label_display='' title_attr='' icon_select='
 yes' icon='ue85b' font='entypo-fontello' color='custom' custom_bg='#b5123e'
  custom_font='#ffffff' av_uid='' id='' custom_class='' admin_preview_bg='']
 </p>
CATEGORIES:Strafrecht
LOCATION:Inland
GEO:0.000000;0.000000
ORGANIZER;CN="ViFa-Recht":MAILTO:vifa-recht@sbb.spk-berlin.de
URL;VALUE=URI:https://events.intrecht.de/termine/termin/the-unreliable-huma
 n-mind-false-memories-and-biased-judgments-in-the-context-of-legal-decision
 -making-vortrag/
END:VEVENT
BEGIN:VTIMEZONE
TZID:Europe/Berlin
BEGIN:STANDARD
TZOFFSETFROM:+0200
TZOFFSETTO:+0100
DTSTART:20231029T010000
TZNAME:CET
END:STANDARD
END:VTIMEZONE
END:VCALENDAR
