BEGIN:VCALENDAR
VERSION:2.0
PRODID:-//Events | FID-Recht//NONSGML Events//EN
CALSCALE:GREGORIAN
X-ORIGINAL-URL:https://events.intrecht.de/termine/
X-WR-CALDESC:Events | FID-Recht - Events
BEGIN:VEVENT
UID:20200603T1418Z-1591193923.3362-EO-587-1@172.16.200.141
STATUS:CONFIRMED
DTSTAMP:20260422T225233Z
CREATED:20250225T152744Z
LAST-MODIFIED:20250225T152744Z
DTSTART;VALUE=DATE:20250311
DTEND;VALUE=DATE:20250312
SUMMARY: The Universality of International Law and its Discontent (Hybrid E
 vent)
DESCRIPTION: 11.3.2025 / Online und Liverpool https://voelkerrechtsblog.org
 /wp-content/uploads/2025/02/11th-March-The-Universality-of-International-La
 w-and-its-Discontent.pdf
X-ALT-DESC;FMTTYPE=text/html: <p>11.3.2025 / Online und Liverpool</p><p><a 
 href="https://voelkerrechtsblog.org/wp-content/uploads/2025/02/11th-March-T
 he-Universality-of-International-Law-and-its-Discontent.pdf">https://voelke
 rrechtsblog.org/wp-content/uploads/2025/02/11th-March-The-Universality-of-I
 nternational-Law-and-its-Discontent.pdf</a></p><p>[av_button label='iCal-Ex
 port' link='./feed/eo-events' link_target='' size='small' position='center'
  label_display='' title_attr='' icon_select='yes' icon='ue85b' font='entypo
 -fontello' color='custom' custom_bg='#b5123e' custom_font='#ffffff' av_uid=
 '' id='' custom_class='' admin_preview_bg='']</p>
CATEGORIES:Europäisches / Internationales Recht
LOCATION:Hybrid
GEO:0.000000;0.000000
ORGANIZER;CN="ViFa-Recht":MAILTO:vifa-recht@sbb.spk-berlin.de
URL;VALUE=URI:https://events.intrecht.de/termine/termin/the-universality-of
 -international-law-and-its-discontent-hybrid-event/
END:VEVENT
BEGIN:VTIMEZONE
TZID:Europe/Berlin
BEGIN:STANDARD
TZOFFSETFROM:+0200
TZOFFSETTO:+0100
DTSTART:20241027T010000
TZNAME:CET
END:STANDARD
END:VTIMEZONE
END:VCALENDAR
