BEGIN:VCALENDAR
VERSION:2.0
PRODID:-//Events | FID-Recht//NONSGML Events//EN
CALSCALE:GREGORIAN
X-ORIGINAL-URL:https://events.intrecht.de/termine/
X-WR-CALDESC:Events | FID-Recht - Events
BEGIN:VEVENT
UID:20200603T1418Z-1591193923.3362-EO-587-1@172.16.200.141
STATUS:CONFIRMED
DTSTAMP:20260422T111104Z
CREATED:20231212T165504Z
LAST-MODIFIED:20231212T165504Z
DTSTART;VALUE=DATE:20240124
DTEND;VALUE=DATE:20240125
SUMMARY: The Underworlds Series: The Commons as Sites of Global Dis/Orderin
 g (Online-Seminar)
DESCRIPTION: 24.1.2024 / Online https://lselaw.events/event/the-underworlds
 -series-the-commons-as-sites-of-global-dis-ordering/
X-ALT-DESC;FMTTYPE=text/html: <p>24.1.2024 / Online</p><p><a href="https://
 lselaw.events/event/the-underworlds-series-the-commons-as-sites-of-global-d
 is-ordering/">https://lselaw.events/event/the-underworlds-series-the-common
 s-as-sites-of-global-dis-ordering/</a></p><p>[av_button label='iCal-Export'
  link='./feed/eo-events' link_target='' size='small' position='center' labe
 l_display='' title_attr='' icon_select='yes' icon='ue85b' font='entypo-font
 ello' color='custom' custom_bg='#b5123e' custom_font='#ffffff' av_uid='' id
 ='' custom_class='' admin_preview_bg='']</p>
CATEGORIES:Recht interdisziplinär
LOCATION:Online
GEO:0.000000;0.000000
ORGANIZER;CN="ViFa-Recht":MAILTO:vifa-recht@sbb.spk-berlin.de
URL;VALUE=URI:https://events.intrecht.de/termine/termin/the-underworlds-ser
 ies-the-commons-as-sites-of-global-dis-ordering-online-seminar/
END:VEVENT
BEGIN:VTIMEZONE
TZID:Europe/Berlin
BEGIN:STANDARD
TZOFFSETFROM:+0200
TZOFFSETTO:+0100
DTSTART:20231029T010000
TZNAME:CET
END:STANDARD
END:VTIMEZONE
END:VCALENDAR
