BEGIN:VCALENDAR
VERSION:2.0
PRODID:-//Events | FID-Recht//NONSGML Events//EN
CALSCALE:GREGORIAN
X-ORIGINAL-URL:https://events.intrecht.de/termine/
X-WR-CALDESC:Events | FID-Recht - Events
BEGIN:VEVENT
UID:20201112T1122Z-1605180169.1588-EO-2192-1@172.16.200.141
STATUS:CONFIRMED
DTSTAMP:20260422T175249Z
CREATED:20201105T195351Z
LAST-MODIFIED:20201105T195351Z
DTSTART;VALUE=DATE:20201125
DTEND;VALUE=DATE:20201125
SUMMARY: The UK Internal Market (with Jo Hunt\, Alan Bates\, Kenneth Armstr
 ong\, Stephen Weatherill) (Webinar)
DESCRIPTION: 25.11.2020\, Online https://www.cels.law.cam.ac.uk/press/event
 s/2020/11/monckton-faculty-law-webinar-series-eu-relations-law-uk-internal-
 market  
X-ALT-DESC;FMTTYPE=text/html: <p>25.11.2020\, Online</p><p><a href="https:/
 /www.cels.law.cam.ac.uk/press/events/2020/11/monckton-faculty-law-webinar-s
 eries-eu-relations-law-uk-internal-market">https://www.cels.law.cam.ac.uk/p
 ress/events/2020/11/monckton-faculty-law-webinar-series-eu-relations-law-uk
 -internal-market</a></p><p> </p><p>[av_button label='iCal-Export' link='./f
 eed/eo-events' link_target='' size='small' position='center' label_display=
 '' title_attr='' icon_select='yes' icon='ue85b' font='entypo-fontello' colo
 r='custom' custom_bg='#b5123e' custom_font='#ffffff' av_uid='' id='' custom
 _class='' admin_preview_bg='']</p>
CATEGORIES:Europäisches / Internationales Recht,Recht interdisziplinär
LOCATION:Online
GEO:0.000000;0.000000
ORGANIZER;CN="ViFa-Recht":MAILTO:vifa-recht@sbb.spk-berlin.de
URL;VALUE=URI:https://events.intrecht.de/termine/termin/the-uk-internal-mar
 ket-with-jo-hunt-alan-bates-kenneth-armstrong-stephen-weatherill-webinar/
END:VEVENT
BEGIN:VTIMEZONE
TZID:Europe/Berlin
BEGIN:STANDARD
TZOFFSETFROM:+0200
TZOFFSETTO:+0100
DTSTART:20201025T010000
TZNAME:CET
END:STANDARD
END:VTIMEZONE
END:VCALENDAR
