BEGIN:VCALENDAR
VERSION:2.0
PRODID:-//Events | FID-Recht//NONSGML Events//EN
CALSCALE:GREGORIAN
X-ORIGINAL-URL:https://events.intrecht.de/termine/
X-WR-CALDESC:Events | FID-Recht - Events
BEGIN:VEVENT
UID:20201110T0337Z-1604979440.8187-EO-2103-1@172.16.200.141
STATUS:CONFIRMED
DTSTAMP:20260421T164734Z
CREATED:20201105T124604Z
LAST-MODIFIED:20201105T124604Z
DTSTART;VALUE=DATE:20201111
DTEND;VALUE=DATE:20201111
SUMMARY: The UK\, European Human Rights and the Rule of Law: Seventy Years 
 of the ECHR and Twenty Years of the HRA – A Time for Celebration? (Webinar)
DESCRIPTION: 11.11.2020\, Online https://www.biicl.org/events/11446/the-uk-
 european-human-rights-and-the-rule-of-law-seventy-years-of-the-echr-and-twe
 nty-years-of-the-hra-a-time-for-celebration    
X-ALT-DESC;FMTTYPE=text/html: <p>11.11.2020\, Online</p><p><a href="https:/
 /www.biicl.org/events/11446/the-uk-european-human-rights-and-the-rule-of-la
 w-seventy-years-of-the-echr-and-twenty-years-of-the-hra-a-time-for-celebrat
 ion">https://www.biicl.org/events/11446/the-uk-european-human-rights-and-th
 e-rule-of-law-seventy-years-of-the-echr-and-twenty-years-of-the-hra-a-time-
 for-celebration</a></p><p> </p><p> </p><p>[av_button label='iCal-Export' li
 nk='./feed/eo-events' link_target='' size='small' position='center' label_d
 isplay='' title_attr='' icon_select='yes' icon='ue85b' font='entypo-fontell
 o' color='custom' custom_bg='#b5123e' custom_font='#ffffff' av_uid='' id=''
  custom_class='' admin_preview_bg='']</p>
CATEGORIES:Europäisches / Internationales Recht
LOCATION:Online
GEO:0.000000;0.000000
ORGANIZER;CN="ViFa-Recht":MAILTO:vifa-recht@sbb.spk-berlin.de
URL;VALUE=URI:https://events.intrecht.de/termine/termin/the-uk-european-hum
 an-rights-and-the-rule-of-law-seventy-years-of-the-echr-and-twenty-years-of
 -the-hra-a-time-for-celebration-webinar/
END:VEVENT
BEGIN:VTIMEZONE
TZID:Europe/Berlin
BEGIN:STANDARD
TZOFFSETFROM:+0200
TZOFFSETTO:+0100
DTSTART:20201025T010000
TZNAME:CET
END:STANDARD
END:VTIMEZONE
END:VCALENDAR
