BEGIN:VCALENDAR
VERSION:2.0
PRODID:-//Events | FID-Recht//NONSGML Events//EN
CALSCALE:GREGORIAN
X-ORIGINAL-URL:https://events.intrecht.de/termine/
X-WR-CALDESC:Events | FID-Recht - Events
BEGIN:VEVENT
UID:20200603T1418Z-1591193923.3362-EO-587-1@172.16.200.141
STATUS:CONFIRMED
DTSTAMP:20260422T071856Z
CREATED:20240108T080223Z
LAST-MODIFIED:20240108T080223Z
DTSTART;VALUE=DATE:20240123
DTEND;VALUE=DATE:20240124
SUMMARY: The Theology of the Rule of Law (Hybrid-Event)
DESCRIPTION: 23.1.2024 / Online und Berlin https://www.rewi.hu-berlin.de/de
 /lf/oe/lsi/the-theology-of-the-rule-of-law-american-academy-lecture-with-ma
 rk-fathi-massoud
X-ALT-DESC;FMTTYPE=text/html: <p>23.1.2024 / Online und Berlin</p><p><a hre
 f="https://www.rewi.hu-berlin.de/de/lf/oe/lsi/the-theology-of-the-rule-of-l
 aw-american-academy-lecture-with-mark-fathi-massoud">https://www.rewi.hu-be
 rlin.de/de/lf/oe/lsi/the-theology-of-the-rule-of-law-american-academy-lectu
 re-with-mark-fathi-massoud</a></p><p>[av_button label='iCal-Export' link='.
 /feed/eo-events' link_target='' size='small' position='center' label_displa
 y='' title_attr='' icon_select='yes' icon='ue85b' font='entypo-fontello' co
 lor='custom' custom_bg='#b5123e' custom_font='#ffffff' av_uid='' id='' cust
 om_class='' admin_preview_bg='']</p>
CATEGORIES:Recht interdisziplinär
LOCATION:Online
GEO:0.000000;0.000000
ORGANIZER;CN="ViFa-Recht":MAILTO:vifa-recht@sbb.spk-berlin.de
URL;VALUE=URI:https://events.intrecht.de/termine/termin/the-theology-of-the
 -rule-of-law-hybrid-event-2/
END:VEVENT
BEGIN:VTIMEZONE
TZID:Europe/Berlin
BEGIN:STANDARD
TZOFFSETFROM:+0200
TZOFFSETTO:+0100
DTSTART:20231029T010000
TZNAME:CET
END:STANDARD
END:VTIMEZONE
END:VCALENDAR
