BEGIN:VCALENDAR
VERSION:2.0
PRODID:-//Events | FID-Recht//NONSGML Events//EN
CALSCALE:GREGORIAN
X-ORIGINAL-URL:https://events.intrecht.de/termine/
X-WR-CALDESC:Events | FID-Recht - Events
BEGIN:VEVENT
UID:20210106T1434Z-1609943646.5722-EO-2524-1@172.16.200.141
STATUS:CONFIRMED
DTSTAMP:20260421T102654Z
CREATED:20210106T132003Z
LAST-MODIFIED:20210106T133454Z
DTSTART;TZID=Europe/Berlin:20210122T100000
DTEND;TZID=Europe/Berlin:20210122T120000
SUMMARY: The Syntax of Everyday Injustice (mit Arundhati Roy und Pavan Malr
 eddy) (Online-Lesung und –Diskussion)
DESCRIPTION: 22.1.2021\, Online https://aktuelles.uni-frankfurt.de/veransta
 ltungen/arundhati-roy-liest-an-der-goethe-universitaet/  
X-ALT-DESC;FMTTYPE=text/html: <p>22.1.2021\, Online</p><p><a href="https://
 aktuelles.uni-frankfurt.de/veranstaltungen/arundhati-roy-liest-an-der-goeth
 e-universitaet/">https://aktuelles.uni-frankfurt.de/veranstaltungen/arundha
 ti-roy-liest-an-der-goethe-universitaet/</a></p><p> </p><p>[av_button label
 ='iCal-Export' link='./feed/eo-events' link_target='' size='small' position
 ='center' label_display='' title_attr='' icon_select='yes' icon='ue85b' fon
 t='entypo-fontello' color='custom' custom_bg='#b5123e' custom_font='#ffffff
 ' av_uid='' id='' custom_class='' admin_preview_bg='']</p>
CATEGORIES:Recht interdisziplinär
LOCATION:Online
GEO:0.000000;0.000000
ORGANIZER;CN="ViFa-Recht":MAILTO:vifa-recht@sbb.spk-berlin.de
URL;VALUE=URI:https://events.intrecht.de/termine/termin/the-syntax-of-every
 day-injustice-mit-arundhati-roy-und-pavan-malreddy-online-lesung-und-diskus
 sion/
END:VEVENT
BEGIN:VTIMEZONE
TZID:Europe/Berlin
BEGIN:STANDARD
TZOFFSETFROM:+0200
TZOFFSETTO:+0100
DTSTART:20201025T010000
TZNAME:CET
END:STANDARD
END:VTIMEZONE
END:VCALENDAR
