BEGIN:VCALENDAR
VERSION:2.0
PRODID:-//Events | FID-Recht//NONSGML Events//EN
CALSCALE:GREGORIAN
X-ORIGINAL-URL:https://events.intrecht.de/termine/
X-WR-CALDESC:Events | FID-Recht - Events
BEGIN:VEVENT
UID:20200602T0945Z-1591091115.9737-EO-599-1@172.16.200.141
STATUS:CONFIRMED
DTSTAMP:20260423T091226Z
CREATED:20251210T092543Z
LAST-MODIFIED:20251210T092543Z
DTSTART;VALUE=DATE:20251215
DTEND;VALUE=DATE:20251216
SUMMARY: The Supreme Court of Pakistan’s Ruling on Women’s Right to Mainten
 ance: Justice Shah and Zubair Abbasi in Conversation (Virtual Lecture)
DESCRIPTION: 15.12.2025 / Online https://events.mpipriv.de/b?p=private_law_
 in_context_across_asia_and_north_africa_15_December_2025
X-ALT-DESC;FMTTYPE=text/html: <p>15.12.2025 / Online</p><p><a href="https:/
 /events.mpipriv.de/b?p=private_law_in_context_across_asia_and_north_africa_
 15_December_2025">https://events.mpipriv.de/b?p=private_law_in_context_acro
 ss_asia_and_north_africa_15_December_2025</a></p><p>[av_button label='iCal-
 Export' link='./feed/eo-events' link_target='' size='small' position='cente
 r' label_display='' title_attr='' icon_select='yes' icon='ue85b' font='enty
 po-fontello' color='custom' custom_bg='#b5123e' custom_font='#ffffff' av_ui
 d='' id='' custom_class='' admin_preview_bg='']</p>
CATEGORIES:Zivilrecht
LOCATION:Online
GEO:0.000000;0.000000
ORGANIZER;CN="ViFa-Recht":MAILTO:vifa-recht@sbb.spk-berlin.de
URL;VALUE=URI:https://events.intrecht.de/termine/termin/the-supreme-court-o
 f-pakistans-ruling-on-womens-right-to-maintenance-justice-shah-and-zubair-a
 bbasi-in-conversation-virtual-lecture/
END:VEVENT
BEGIN:VTIMEZONE
TZID:Europe/Berlin
BEGIN:STANDARD
TZOFFSETFROM:+0200
TZOFFSETTO:+0100
DTSTART:20251026T010000
TZNAME:CET
END:STANDARD
END:VTIMEZONE
END:VCALENDAR
