BEGIN:VCALENDAR
VERSION:2.0
PRODID:-//Events | FID-Recht//NONSGML Events//EN
CALSCALE:GREGORIAN
X-ORIGINAL-URL:https://events.intrecht.de/termine/
X-WR-CALDESC:Events | FID-Recht - Events
BEGIN:VEVENT
UID:20200603T1418Z-1591193923.3362-EO-587-1@172.16.200.141
STATUS:CONFIRMED
DTSTAMP:20260425T183035Z
CREATED:20230620T134937Z
LAST-MODIFIED:20230620T134937Z
DTSTART;VALUE=DATE:20231010
DTEND;VALUE=DATE:20231012
SUMMARY: The Study of Social Law in the 21st Century (Online-Veranstaltung)
DESCRIPTION: 10.-11.10.2023 / Online (Anmeldefrist: 30.9.2023) https://law.
 mpg.de/event/the-study-of-social-law-in-the-21st-century/#register-form
X-ALT-DESC;FMTTYPE=text/html: <p>10.-11.10.2023 / Online <strong>(Anmeldefr
 ist: 30.9.2023)</strong></p><p><a href="https://law.mpg.de/event/the-study-
 of-social-law-in-the-21st-century/#register-form">https://law.mpg.de/event/
 the-study-of-social-law-in-the-21st-century/#register-form</a></p><p>[av_bu
 tton label='iCal-Export' link='./feed/eo-events' link_target='' size='small
 ' position='center' label_display='' title_attr='' icon_select='yes' icon='
 ue85b' font='entypo-fontello' color='custom' custom_bg='#b5123e' custom_fon
 t='#ffffff' av_uid='' id='' custom_class='' admin_preview_bg='']</p>
CATEGORIES:Recht interdisziplinär
LOCATION:Online
GEO:0.000000;0.000000
ORGANIZER;CN="ViFa-Recht":MAILTO:vifa-recht@sbb.spk-berlin.de
URL;VALUE=URI:https://events.intrecht.de/termine/termin/the-study-of-social
 -law-in-the-21st-century-online-veranstaltung/
END:VEVENT
BEGIN:VTIMEZONE
TZID:Europe/Berlin
BEGIN:DAYLIGHT
TZOFFSETFROM:+0100
TZOFFSETTO:+0200
DTSTART:20230326T010000
TZNAME:CEST
END:DAYLIGHT
END:VTIMEZONE
END:VCALENDAR
