BEGIN:VCALENDAR
VERSION:2.0
PRODID:-//Events | FID-Recht//NONSGML Events//EN
CALSCALE:GREGORIAN
X-ORIGINAL-URL:https://events.intrecht.de/termine/
X-WR-CALDESC:Events | FID-Recht - Events
BEGIN:VEVENT
UID:20200603T1418Z-1591193923.3362-EO-587-1@172.16.200.141
STATUS:CONFIRMED
DTSTAMP:20260425T164621Z
CREATED:20230629T053316Z
LAST-MODIFIED:20230629T053316Z
DTSTART;VALUE=DATE:20240418
DTEND;VALUE=DATE:20240420
SUMMARY: The struggle to tax inheritance: An impossible debate? (Conference
 )
DESCRIPTION: 18.-19.4.2024 / Brüssel (Frist für Einreichungen: 31.10.2023) 
 https://www.hsozkult.de/event/id/event-137236
X-ALT-DESC;FMTTYPE=text/html: <p>18.-19.4.2024 / Brüssel <strong>(Frist für
  Einreichungen: 31.10.2023)</strong></p><p><a href="https://www.hsozkult.de
 /event/id/event-137236">https://www.hsozkult.de/event/id/event-137236</a></
 p><p>[av_button label='iCal-Export' link='./feed/eo-events' link_target='' 
 size='small' position='center' label_display='' title_attr='' icon_select='
 yes' icon='ue85b' font='entypo-fontello' color='custom' custom_bg='#b5123e'
  custom_font='#ffffff' av_uid='' id='' custom_class='' admin_preview_bg='']
 </p>
CATEGORIES:Recht interdisziplinär
LOCATION:Ausland
GEO:0.000000;0.000000
ORGANIZER;CN="ViFa-Recht":MAILTO:vifa-recht@sbb.spk-berlin.de
URL;VALUE=URI:https://events.intrecht.de/termine/termin/the-struggle-to-tax
 -inheritance-an-impossible-debate-conference/
END:VEVENT
BEGIN:VTIMEZONE
TZID:Europe/Berlin
BEGIN:DAYLIGHT
TZOFFSETFROM:+0100
TZOFFSETTO:+0200
DTSTART:20240331T010000
TZNAME:CEST
END:DAYLIGHT
END:VTIMEZONE
END:VCALENDAR
