BEGIN:VCALENDAR
VERSION:2.0
PRODID:-//Events | FID-Recht//NONSGML Events//EN
CALSCALE:GREGORIAN
X-ORIGINAL-URL:https://events.intrecht.de/termine/
X-WR-CALDESC:Events | FID-Recht - Events
BEGIN:VEVENT
UID:20200814T1624Z-1597422259.3157-EO-1269-1@172.16.200.141
STATUS:CONFIRMED
DTSTAMP:20260421T102526Z
CREATED:20200730T193512Z
LAST-MODIFIED:20200730T193809Z
DTSTART;VALUE=DATE:20210715
DTEND;VALUE=DATE:20210717
SUMMARY: The Structural Change of European Law (mit Armin von Bogdandy) (Te
 aching Session)
DESCRIPTION: 15.-16.7.2021\, Heidelberg https://law.mpg.de/events/2020-07-0
 2-teaching-session-the-structural-change-of-european-law/  
X-ALT-DESC;FMTTYPE=text/html: <p><span style="display: inline !important\; 
 float: none\; background-color: #ffffff\; color: #333333\; cursor: text\; f
 ont-family: Georgia\,'Times New Roman'\,'Bitstream Charter'\,Times\,serif\;
  font-size: 16px\; font-style: normal\; font-variant: normal\; font-weight:
  400\; letter-spacing: normal\; orphans: 2\; text-align: left\; text-decora
 tion: none\; text-indent: 0px\; text-transform: none\; -webkit-text-stroke-
 width: 0px\; white-space: normal\; word-spacing: 0px\;">15.-16.7.2021</span
 >\, Heidelberg</p><p><a href="https://law.mpg.de/events/2020-07-02-teaching
 -session-the-structural-change-of-european-law/">https://law.mpg.de/events/
 2020-07-02-teaching-session-the-structural-change-of-european-law/</a></p><
 p> </p><p>[av_button label='iCal-Export' link='./feed/eo-events' link_targe
 t='' size='small' position='center' label_display='' title_attr='' icon_sel
 ect='yes' icon='ue85b' font='entypo-fontello' color='custom' custom_bg='#b5
 123e' custom_font='#ffffff' av_uid='' id='' custom_class='' admin_preview_b
 g='']</p>
CATEGORIES:Europäisches / Internationales Recht
LOCATION:Inland
GEO:0.000000;0.000000
ORGANIZER;CN="ViFa-Recht":MAILTO:vifa-recht@sbb.spk-berlin.de
URL;VALUE=URI:https://events.intrecht.de/termine/termin/the-structural-chan
 ge-of-european-law-mit-armin-von-bogdandy-teaching-session/
END:VEVENT
BEGIN:VTIMEZONE
TZID:Europe/Berlin
BEGIN:DAYLIGHT
TZOFFSETFROM:+0100
TZOFFSETTO:+0200
DTSTART:20210328T010000
TZNAME:CEST
END:DAYLIGHT
END:VTIMEZONE
END:VCALENDAR
