BEGIN:VCALENDAR
VERSION:2.0
PRODID:-//Events | FID-Recht//NONSGML Events//EN
CALSCALE:GREGORIAN
X-ORIGINAL-URL:https://events.intrecht.de/termine/
X-WR-CALDESC:Events | FID-Recht - Events
BEGIN:VEVENT
UID:20200603T1418Z-1591193923.3362-EO-587-1@172.16.200.141
STATUS:CONFIRMED
DTSTAMP:20260422T190408Z
CREATED:20240229T114031Z
LAST-MODIFIED:20240229T114031Z
DTSTART;VALUE=DATE:20240319
DTEND;VALUE=DATE:20240320
SUMMARY: The soul of Europe in the balance? Subsidiarity and human rights i
 n the EU and the ECHR (Vortrag)
DESCRIPTION: 19.3.2024 / Berlin (Anmeldefrist: 11.3.2024) https://www.herti
 e-school.org/en/events/event-detail/event/the-soul-of-europe-in-the-balance
 -subsidiarity-and-human-rights-in-the-eu-and-the-echr
X-ALT-DESC;FMTTYPE=text/html: <p>19.3.2024 / Berlin <strong>(Anmeldefrist: 
 11.3.2024)</strong></p><p><a href="https://www.hertie-school.org/en/events/
 event-detail/event/the-soul-of-europe-in-the-balance-subsidiarity-and-human
 -rights-in-the-eu-and-the-echr">https://www.hertie-school.org/en/events/eve
 nt-detail/event/the-soul-of-europe-in-the-balance-subsidiarity-and-human-ri
 ghts-in-the-eu-and-the-echr</a></p><p>[av_button label='iCal-Export' link='
 ./feed/eo-events' link_target='' size='small' position='center' label_displ
 ay='' title_attr='' icon_select='yes' icon='ue85b' font='entypo-fontello' c
 olor='custom' custom_bg='#b5123e' custom_font='#ffffff' av_uid='' id='' cus
 tom_class='' admin_preview_bg='']</p>
CATEGORIES:Europäisches / Internationales Recht
LOCATION:Inland
GEO:0.000000;0.000000
ORGANIZER;CN="ViFa-Recht":MAILTO:vifa-recht@sbb.spk-berlin.de
URL;VALUE=URI:https://events.intrecht.de/termine/termin/the-soul-of-europe-
 in-the-balance-subsidiarity-and-human-rights-in-the-eu-and-the-echr-vortrag
 /
END:VEVENT
BEGIN:VTIMEZONE
TZID:Europe/Berlin
BEGIN:STANDARD
TZOFFSETFROM:+0200
TZOFFSETTO:+0100
DTSTART:20231029T010000
TZNAME:CET
END:STANDARD
END:VTIMEZONE
END:VCALENDAR
