BEGIN:VCALENDAR
VERSION:2.0
PRODID:-//Events | FID-Recht//NONSGML Events//EN
CALSCALE:GREGORIAN
X-ORIGINAL-URL:https://events.intrecht.de/termine/
X-WR-CALDESC:Events | FID-Recht - Events
BEGIN:VEVENT
UID:20210313T1816Z-1615659365.7777-EO-3664-1@172.16.200.141
STATUS:CONFIRMED
DTSTAMP:20260420T220033Z
CREATED:20210311T172422Z
LAST-MODIFIED:20210311T172422Z
DTSTART;VALUE=DATE:20210317
DTEND;VALUE=DATE:20210317
SUMMARY: The Scripts and Settings of Transitional Justice – Procedure\, Pro
 tocol and Form (Online-Konferenz) (CfP)
DESCRIPTION: 14.-16.6.2021\, Online (Frist für Einreichungen: 17.3.2021) ht
 tps://www.minerva.mpg.de/69780/  
X-ALT-DESC;FMTTYPE=text/html: <p>14.-16.6.2021\, Online (Frist für Einreich
 ungen: 17.3.2021)</p><p><a href="https://www.minerva.mpg.de/69780/">https:/
 /www.minerva.mpg.de/69780/</a></p><p> </p><p>[av_button label='iCal-Export'
  link='./feed/eo-events' link_target='' size='small' position='center' labe
 l_display='' title_attr='' icon_select='yes' icon='ue85b' font='entypo-font
 ello' color='custom' custom_bg='#b5123e' custom_font='#ffffff' av_uid='' id
 ='' custom_class='' admin_preview_bg='']</p>
CATEGORIES:Europäisches / Internationales Recht
LOCATION:Online
GEO:0.000000;0.000000
ORGANIZER;CN="ViFa-Recht":MAILTO:vifa-recht@sbb.spk-berlin.de
URL;VALUE=URI:https://events.intrecht.de/termine/termin/the-scripts-and-set
 tings-of-transitional-justice-procedure-protocol-and-form-online-konferenz-
 cfp/
END:VEVENT
BEGIN:VTIMEZONE
TZID:Europe/Berlin
BEGIN:STANDARD
TZOFFSETFROM:+0200
TZOFFSETTO:+0100
DTSTART:20201025T010000
TZNAME:CET
END:STANDARD
END:VTIMEZONE
END:VCALENDAR
