BEGIN:VCALENDAR
VERSION:2.0
PRODID:-//Events | FID-Recht//NONSGML Events//EN
CALSCALE:GREGORIAN
X-ORIGINAL-URL:https://events.intrecht.de/termine/
X-WR-CALDESC:Events | FID-Recht - Events
BEGIN:VEVENT
UID:20211219T0106Z-1639876007.8363-EO-4236-1@172.16.200.141
STATUS:CONFIRMED
DTSTAMP:20260421T102925Z
CREATED:20211216T132523Z
LAST-MODIFIED:20211216T132523Z
DTSTART;VALUE=DATE:20220623
DTEND;VALUE=DATE:20220624
SUMMARY: The Rule of Law in British America – Thinking with Indians While C
 omparing to Spaniards (Max Planck Lecture in Legal History and Legal Theory
  with Richard Ross) (Vortrag)
DESCRIPTION: 23.6.2022\, Frankfurt (Main) Max Planck Lecture in Legal Histo
 ry and Legal Theory | Max-Planck-Institut für Rechtsgeschichte und Rechtsth
 eorie (mpg.de)  
X-ALT-DESC;FMTTYPE=text/html: <p>23.6.2022\, Frankfurt (Main)</p><p><a href
 ="https://www.lhlt.mpg.de/2688161/event-22-06-23-rule-of-law-in-british-ame
 rica.html">Max Planck Lecture in Legal History and Legal Theory | Max-Planc
 k-Institut für Rechtsgeschichte und Rechtstheorie (mpg.de)</a></p><p> </p><
 p>[av_button label='iCal-Export' link='./feed/eo-events' link_target='' siz
 e='small' position='center' label_display='' title_attr='' icon_select='yes
 ' icon='ue85b' font='entypo-fontello' color='custom' custom_bg='#b5123e' cu
 stom_font='#ffffff' av_uid='' id='' custom_class='' admin_preview_bg='']</p
 >
CATEGORIES:Recht interdisziplinär
LOCATION:Inland
GEO:0.000000;0.000000
ORGANIZER;CN="ViFa-Recht":MAILTO:vifa-recht@sbb.spk-berlin.de
URL;VALUE=URI:https://events.intrecht.de/termine/termin/the-rule-of-law-in-
 british-america-thinking-with-indians-while-comparing-to-spaniards-max-plan
 ck-lecture-in-legal-history-and-legal-theory-with-richard-ross-vortrag/
END:VEVENT
BEGIN:VTIMEZONE
TZID:Europe/Berlin
BEGIN:DAYLIGHT
TZOFFSETFROM:+0100
TZOFFSETTO:+0200
DTSTART:20220327T010000
TZNAME:CEST
END:DAYLIGHT
END:VTIMEZONE
END:VCALENDAR
