BEGIN:VCALENDAR
VERSION:2.0
PRODID:-//Events | FID-Recht//NONSGML Events//EN
CALSCALE:GREGORIAN
X-ORIGINAL-URL:https://events.intrecht.de/termine/
X-WR-CALDESC:Events | FID-Recht - Events
BEGIN:VEVENT
UID:20220118T1733Z-1642527223.1106-EO-5009-1@172.16.200.141
STATUS:CONFIRMED
DTSTAMP:20260425T202019Z
CREATED:20220114T170604Z
LAST-MODIFIED:20220114T170604Z
DTSTART;VALUE=DATE:20220124
DTEND;VALUE=DATE:20220125
SUMMARY: The Role of the Judge under the Turkish Code of Obligations (with 
 Başak Baysal) (Online-Vortrag)
DESCRIPTION: 24.1.2022\, Online Current Research on Turkish Law: Prof. Dr. 
 Başak Baysal (mpipriv.de)  
X-ALT-DESC;FMTTYPE=text/html: <p>24.1.2022\, Online</p><p><a href="https://
 events.mpipriv.de/currentresearchonturkishlaw-baysal">Current Research on T
 urkish Law: Prof. Dr. Başak Baysal (mpipriv.de)</a></p><p> </p><p>[av_butto
 n label='iCal-Export' link='./feed/eo-events' link_target='' size='small' p
 osition='center' label_display='' title_attr='' icon_select='yes' icon='ue8
 5b' font='entypo-fontello' color='custom' custom_bg='#b5123e' custom_font='
 #ffffff' av_uid='' id='' custom_class='' admin_preview_bg='']</p>
CATEGORIES:Zivilrecht
LOCATION:Online
GEO:0.000000;0.000000
ORGANIZER;CN="ViFa-Recht":MAILTO:vifa-recht@sbb.spk-berlin.de
URL;VALUE=URI:https://events.intrecht.de/termine/termin/the-role-of-the-jud
 ge-under-the-turkish-code-of-obligations-with-basak-baysal-online-vortrag/
END:VEVENT
BEGIN:VTIMEZONE
TZID:Europe/Berlin
BEGIN:STANDARD
TZOFFSETFROM:+0200
TZOFFSETTO:+0100
DTSTART:20211031T010000
TZNAME:CET
END:STANDARD
END:VTIMEZONE
END:VCALENDAR
