BEGIN:VCALENDAR
VERSION:2.0
PRODID:-//Events | FID-Recht//NONSGML Events//EN
CALSCALE:GREGORIAN
X-ORIGINAL-URL:https://events.intrecht.de/termine/
X-WR-CALDESC:Events | FID-Recht - Events
BEGIN:VEVENT
UID:20200603T1418Z-1591193923.3362-EO-587-1@172.16.200.141
STATUS:CONFIRMED
DTSTAMP:20260423T052730Z
CREATED:20250117T150432Z
LAST-MODIFIED:20250117T150432Z
DTSTART;VALUE=DATE:20250605
DTEND;VALUE=DATE:20250607
SUMMARY: The Role of the Causal Inquiry for Finding Breaches of Human Right
 s Obligations under the European Convention on Human Rights (Workshop)
DESCRIPTION: 5.-6.6.2025 / Lund (Einreichungsfrist: 20.2.2025) https://www.
 law.lu.se/calendar/role-causal-inquiry-finding-breaches-human-rights-obliga
 tions-under-european-convention-human-rights
X-ALT-DESC;FMTTYPE=text/html: <p>5.-6.6.2025 / Lund <strong>(Einreichungsfr
 ist: 20.2.2025)</strong></p><p><a href="https://www.law.lu.se/calendar/role
 -causal-inquiry-finding-breaches-human-rights-obligations-under-european-co
 nvention-human-rights">https://www.law.lu.se/calendar/role-causal-inquiry-f
 inding-breaches-human-rights-obligations-under-european-convention-human-ri
 ghts</a></p><p>[av_button label='iCal-Export' link='./feed/eo-events' link_
 target='' size='small' position='center' label_display='' title_attr='' ico
 n_select='yes' icon='ue85b' font='entypo-fontello' color='custom' custom_bg
 ='#b5123e' custom_font='#ffffff' av_uid='' id='' custom_class='' admin_prev
 iew_bg='']</p>
CATEGORIES:Europäisches / Internationales Recht
LOCATION:Ausland
GEO:0.000000;0.000000
ORGANIZER;CN="ViFa-Recht":MAILTO:vifa-recht@sbb.spk-berlin.de
URL;VALUE=URI:https://events.intrecht.de/termine/termin/the-role-of-the-cau
 sal-inquiry-for-finding-breaches-of-human-rights-obligations-under-the-euro
 pean-convention-on-human-rights-workshop/
END:VEVENT
BEGIN:VTIMEZONE
TZID:Europe/Berlin
BEGIN:DAYLIGHT
TZOFFSETFROM:+0100
TZOFFSETTO:+0200
DTSTART:20250330T010000
TZNAME:CEST
END:DAYLIGHT
END:VTIMEZONE
END:VCALENDAR
