BEGIN:VCALENDAR
VERSION:2.0
PRODID:-//Events | FID-Recht//NONSGML Events//EN
CALSCALE:GREGORIAN
X-ORIGINAL-URL:https://events.intrecht.de/termine/
X-WR-CALDESC:Events | FID-Recht - Events
BEGIN:VEVENT
UID:20200603T1418Z-1591193923.3362-EO-587-1@172.16.200.141
STATUS:CONFIRMED
DTSTAMP:20260425T213628Z
CREATED:20250623T080715Z
LAST-MODIFIED:20250623T080715Z
DTSTART;VALUE=DATE:20251113
DTEND;VALUE=DATE:20251115
SUMMARY: The Role of Law and Courts in Migration Politics (Workshop)
DESCRIPTION: 13.-14.11.2025 / Lüneburg (Einreichungsfrist: 31.7.2025) https
 ://www.leuphana.de/fileadmin/user_upload/Forschungseinrichtungen/lias/files
 /CfPs/Workshop_Role_of_Law_and_Courts_in_Migration_Politics/CfP_LIAS_Worksh
 op_The_Role_of_Law_and_Courts_in_Migration_Politics.pdf
X-ALT-DESC;FMTTYPE=text/html: <p>13.-14.11.2025 / Lüneburg <strong>(Einreic
 hungsfrist: 31.7.2025)</strong></p><p><a href="https://www.leuphana.de/file
 admin/user_upload/Forschungseinrichtungen/lias/files/CfPs/Workshop_Role_of_
 Law_and_Courts_in_Migration_Politics/CfP_LIAS_Workshop_The_Role_of_Law_and_
 Courts_in_Migration_Politics.pdf">https://www.leuphana.de/fileadmin/user_up
 load/Forschungseinrichtungen/lias/files/CfPs/Workshop_Role_of_Law_and_Court
 s_in_Migration_Politics/CfP_LIAS_Workshop_The_Role_of_Law_and_Courts_in_Mig
 ration_Politics.pdf</a></p><p>[av_button label='iCal-Export' link='./feed/e
 o-events' link_target='' size='small' position='center' label_display='' ti
 tle_attr='' icon_select='yes' icon='ue85b' font='entypo-fontello' color='cu
 stom' custom_bg='#b5123e' custom_font='#ffffff' av_uid='' id='' custom_clas
 s='' admin_preview_bg='']</p>
CATEGORIES:Recht interdisziplinär
LOCATION:Inland
GEO:0.000000;0.000000
ORGANIZER;CN="ViFa-Recht":MAILTO:vifa-recht@sbb.spk-berlin.de
URL;VALUE=URI:https://events.intrecht.de/termine/termin/the-role-of-law-and
 -courts-in-migration-politics-workshop/
END:VEVENT
BEGIN:VTIMEZONE
TZID:Europe/Berlin
BEGIN:STANDARD
TZOFFSETFROM:+0200
TZOFFSETTO:+0100
DTSTART:20251026T010000
TZNAME:CET
END:STANDARD
END:VTIMEZONE
END:VCALENDAR
