BEGIN:VCALENDAR
VERSION:2.0
PRODID:-//Events | FID-Recht//NONSGML Events//EN
CALSCALE:GREGORIAN
X-ORIGINAL-URL:https://events.intrecht.de/termine/
X-WR-CALDESC:Events | FID-Recht - Events
BEGIN:VEVENT
UID:20221106T0518Z-1667711920.7429-EO-6915-1@172.16.200.151
STATUS:CONFIRMED
DTSTAMP:20260421T133418Z
CREATED:20221102T144318Z
LAST-MODIFIED:20221102T144348Z
DTSTART;VALUE=DATE:20221123
DTEND;VALUE=DATE:20221124
SUMMARY: The right to freedom of thought (Symposium)
DESCRIPTION: 23.11.2023 / Online https://www.legalscholars.ac.uk/event/symp
 osium-the-right-to-freedom-of-thought/  
X-ALT-DESC;FMTTYPE=text/html: <p>23.11.2023 / Online</p><p><a href="https:/
 /www.legalscholars.ac.uk/event/symposium-the-right-to-freedom-of-thought/">
 https://www.legalscholars.ac.uk/event/symposium-the-right-to-freedom-of-tho
 ught/</a></p><p> </p><p>[av_button label='iCal-Export' link='./feed/eo-even
 ts' link_target='' size='small' position='center' label_display='' title_at
 tr='' icon_select='yes' icon='ue85b' font='entypo-fontello' color='custom' 
 custom_bg='#b5123e' custom_font='#ffffff' av_uid='' id='' custom_class='' a
 dmin_preview_bg='']</p>
CATEGORIES:Öffentliches Recht
LOCATION:Online
GEO:0.000000;0.000000
ORGANIZER;CN="ViFa-Recht":MAILTO:vifa-recht@sbb.spk-berlin.de
URL;VALUE=URI:https://events.intrecht.de/termine/termin/the-right-to-freedo
 m-of-thought-symposium/
END:VEVENT
BEGIN:VTIMEZONE
TZID:Europe/Berlin
BEGIN:STANDARD
TZOFFSETFROM:+0200
TZOFFSETTO:+0100
DTSTART:20221030T010000
TZNAME:CET
END:STANDARD
END:VTIMEZONE
END:VCALENDAR
