BEGIN:VCALENDAR
VERSION:2.0
PRODID:-//Events | FID-Recht//NONSGML Events//EN
CALSCALE:GREGORIAN
X-ORIGINAL-URL:https://events.intrecht.de/termine/
X-WR-CALDESC:Events | FID-Recht - Events
BEGIN:VEVENT
UID:20200603T1418Z-1591193923.3362-EO-587-1@172.16.200.141
STATUS:CONFIRMED
DTSTAMP:20260422T172528Z
CREATED:20240328T144226Z
LAST-MODIFIED:20240328T144226Z
DTSTART;VALUE=DATE:20240516
DTEND;VALUE=DATE:20240517
SUMMARY: The Refugee Convention and its Protocol – What Future Role for Int
 ernational Refugee Law?
DESCRIPTION: 16.5.2024 / Berlin https://kfg-intlaw.de/News%20and%20Events/n
 ews_einzel.php?ID=276
X-ALT-DESC;FMTTYPE=text/html: <p>16.5.2024 / Berlin</p><p><a href="https://
 kfg-intlaw.de/News%20and%20Events/news_einzel.php?ID=276">https://kfg-intla
 w.de/News%20and%20Events/news_einzel.php?ID=276</a></p><p>[av_button label=
 'iCal-Export' link='./feed/eo-events' link_target='' size='small' position=
 'center' label_display='' title_attr='' icon_select='yes' icon='ue85b' font
 ='entypo-fontello' color='custom' custom_bg='#b5123e' custom_font='#ffffff'
  av_uid='' id='' custom_class='' admin_preview_bg='']</p>
CATEGORIES:Europäisches / Internationales Recht
LOCATION:Inland
GEO:0.000000;0.000000
ORGANIZER;CN="ViFa-Recht":MAILTO:vifa-recht@sbb.spk-berlin.de
URL;VALUE=URI:https://events.intrecht.de/termine/termin/the-refugee-convent
 ion-and-its-protocol-what-future-role-for-international-refugee-law/
END:VEVENT
BEGIN:VTIMEZONE
TZID:Europe/Berlin
BEGIN:DAYLIGHT
TZOFFSETFROM:+0100
TZOFFSETTO:+0200
DTSTART:20240331T010000
TZNAME:CEST
END:DAYLIGHT
END:VTIMEZONE
END:VCALENDAR
