BEGIN:VCALENDAR
VERSION:2.0
PRODID:-//Events | FID-Recht//NONSGML Events//EN
CALSCALE:GREGORIAN
X-ORIGINAL-URL:https://events.intrecht.de/termine/
X-WR-CALDESC:Events | FID-Recht - Events
BEGIN:VEVENT
UID:20200603T1418Z-1591193923.3362-EO-587-1@172.16.200.141
STATUS:CONFIRMED
DTSTAMP:20260425T182901Z
CREATED:20230221T122647Z
LAST-MODIFIED:20230221T122647Z
DTSTART;VALUE=DATE:20230517
DTEND;VALUE=DATE:20230519
SUMMARY: The Protection of Vulnerable People at Sea (Workshop)
DESCRIPTION: 17.-18.5.2023 / Swansea in Wales (Frist für Einreichungen: 20.
 3.2023) https://www.legalscholars.ac.uk/event/sls-supported-event-workshop-
 the-protection-of-vulnerable-people-at-sea/
X-ALT-DESC;FMTTYPE=text/html: <p>17.-18.5.2023 / Swansea in Wales <strong>(
 Frist für Einreichungen: 20.3.2023)</strong></p><p><a href="https://www.leg
 alscholars.ac.uk/event/sls-supported-event-workshop-the-protection-of-vulne
 rable-people-at-sea/">https://www.legalscholars.ac.uk/event/sls-supported-e
 vent-workshop-the-protection-of-vulnerable-people-at-sea/</a></p><p>[av_but
 ton label='iCal-Export' link='./feed/eo-events' link_target='' size='small'
  position='center' label_display='' title_attr='' icon_select='yes' icon='u
 e85b' font='entypo-fontello' color='custom' custom_bg='#b5123e' custom_font
 ='#ffffff' av_uid='' id='' custom_class='' admin_preview_bg='']</p>
CATEGORIES:Europäisches / Internationales Recht
LOCATION:Ausland
GEO:0.000000;0.000000
ORGANIZER;CN="ViFa-Recht":MAILTO:vifa-recht@sbb.spk-berlin.de
URL;VALUE=URI:https://events.intrecht.de/termine/termin/the-protection-of-v
 ulnerable-people-at-sea-workshop/
END:VEVENT
BEGIN:VTIMEZONE
TZID:Europe/Berlin
BEGIN:DAYLIGHT
TZOFFSETFROM:+0100
TZOFFSETTO:+0200
DTSTART:20230326T010000
TZNAME:CEST
END:DAYLIGHT
END:VTIMEZONE
END:VCALENDAR
