BEGIN:VCALENDAR
VERSION:2.0
PRODID:-//Events | FID-Recht//NONSGML Events//EN
CALSCALE:GREGORIAN
X-ORIGINAL-URL:https://events.intrecht.de/termine/
X-WR-CALDESC:Events | FID-Recht - Events
BEGIN:VEVENT
UID:20200603T1418Z-1591193923.3362-EO-587-1@172.16.200.141
STATUS:CONFIRMED
DTSTAMP:20260425T202833Z
CREATED:20230807T104928Z
LAST-MODIFIED:20230807T105015Z
DTSTART;VALUE=DATE:20240118
DTEND;VALUE=DATE:20240120
SUMMARY: The Promise and Perils of Human Rights for Governing Digital Platf
 orms (Hybrid Interdisciplinary Workshop)
DESCRIPTION: 18.-19.1.2024 / Online und Leiden (Frist für Einreichungen: 30
 .9.2023) https://www.universiteitleiden.nl/binaries/content/assets/customsi
 tes/gtgc/gtgc—promise-and-perils-of-human-rights-for-governing-digital-plat
 forms—workshop-call-for-papers.pdf
X-ALT-DESC;FMTTYPE=text/html: <p>18.-19.1.2024 / Online und Leiden <strong>
 (Frist für Einreichungen: 30.9.2023)</strong></p><p><a href="https://www.un
 iversiteitleiden.nl/binaries/content/assets/customsites/gtgc/gtgc---promise
 -and-perils-of-human-rights-for-governing-digital-platforms---workshop-call
 -for-papers.pdf">https://www.universiteitleiden.nl/binaries/content/assets/
 customsites/gtgc/gtgc---promise-and-perils-of-human-rights-for-governing-di
 gital-platforms---workshop-call-for-papers.pdf</a></p><p>[av_button label='
 iCal-Export' link='./feed/eo-events' link_target='' size='small' position='
 center' label_display='' title_attr='' icon_select='yes' icon='ue85b' font=
 'entypo-fontello' color='custom' custom_bg='#b5123e' custom_font='#ffffff' 
 av_uid='' id='' custom_class='' admin_preview_bg='']</p>
CATEGORIES:Europäisches / Internationales Recht
LOCATION:Online
GEO:0.000000;0.000000
ORGANIZER;CN="ViFa-Recht":MAILTO:vifa-recht@sbb.spk-berlin.de
URL;VALUE=URI:https://events.intrecht.de/termine/termin/the-promise-and-per
 ils-of-human-rights-for-governing-digital-platforms-hybrid-interdisciplinar
 y-workshop/
END:VEVENT
BEGIN:VTIMEZONE
TZID:Europe/Berlin
BEGIN:STANDARD
TZOFFSETFROM:+0200
TZOFFSETTO:+0100
DTSTART:20231029T010000
TZNAME:CET
END:STANDARD
END:VTIMEZONE
END:VCALENDAR
