BEGIN:VCALENDAR
VERSION:2.0
PRODID:-//Events | FID-Recht//NONSGML Events//EN
CALSCALE:GREGORIAN
X-ORIGINAL-URL:https://events.intrecht.de/termine/
X-WR-CALDESC:Events | FID-Recht - Events
BEGIN:VEVENT
UID:20211206T1827Z-1638815261.7961-EO-5243-1@172.16.200.141
STATUS:CONFIRMED
DTSTAMP:20260423T042955Z
CREATED:20211130T183511Z
LAST-MODIFIED:20211130T183511Z
DTSTART;VALUE=DATE:20211208
DTEND;VALUE=DATE:20211209
SUMMARY: The production of diversity in the Portuguese Empire (with Francis
 co Bethencourt) ((Online-) Vortrag)
DESCRIPTION: 8.12.2021\, Frankfurt/Main & Online Glocalizing Normativities 
 Research Colloquium | Max-Planck-Institut für Rechtsgeschichte und Rechtsth
 eorie (mpg.de)  
X-ALT-DESC;FMTTYPE=text/html: <p>8.12.2021\, Frankfurt/Main & Online</p><p>
 <a href="https://www.lhlt.mpg.de/2661062/event-21-12-08-glocalizing-normati
 vities-research-colloquium.html">Glocalizing Normativities Research Colloqu
 ium | Max-Planck-Institut für Rechtsgeschichte und Rechtstheorie (mpg.de)</
 a></p><p> </p><p>[av_button label='iCal-Export' link='./feed/eo-events' lin
 k_target='' size='small' position='center' label_display='' title_attr='' i
 con_select='yes' icon='ue85b' font='entypo-fontello' color='custom' custom_
 bg='#b5123e' custom_font='#ffffff' av_uid='' id='' custom_class='' admin_pr
 eview_bg='']</p>
CATEGORIES:Recht interdisziplinär
LOCATION:Online
GEO:0.000000;0.000000
ORGANIZER;CN="ViFa-Recht":MAILTO:vifa-recht@sbb.spk-berlin.de
URL;VALUE=URI:https://events.intrecht.de/termine/termin/the-production-of-d
 iversity-in-the-portuguese-empire-with-francisco-bethencourt-online-vortrag
 /
END:VEVENT
BEGIN:VTIMEZONE
TZID:Europe/Berlin
BEGIN:STANDARD
TZOFFSETFROM:+0200
TZOFFSETTO:+0100
DTSTART:20211031T010000
TZNAME:CET
END:STANDARD
END:VTIMEZONE
END:VCALENDAR
