BEGIN:VCALENDAR
VERSION:2.0
PRODID:-//Events | FID-Recht//NONSGML Events//EN
CALSCALE:GREGORIAN
X-ORIGINAL-URL:https://events.intrecht.de/termine/
X-WR-CALDESC:Events | FID-Recht - Events
BEGIN:VEVENT
UID:20201115T2323Z-1605482621.1555-EO-2316-1@172.16.200.141
STATUS:CONFIRMED
DTSTAMP:20260422T230426Z
CREATED:20201113T173209Z
LAST-MODIFIED:20201113T173209Z
DTSTART;VALUE=DATE:20201113
DTEND;VALUE=DATE:20201113
SUMMARY: The Principle of Legality\, New Technology and the Rome Statute: T
 he Case of Cyber Operations against Civilian Data (mit Simon McKenzie) (Onl
 ine-Vortrag)
DESCRIPTION: 13.11.2020\, Online http://www.anzsil.org.au/event-4031552  
X-ALT-DESC;FMTTYPE=text/html: <p>13.11.2020\, Online</p><p><a href="http://
 www.anzsil.org.au/event-4031552">http://www.anzsil.org.au/event-4031552</a>
 </p><p> </p><p>[av_button label='iCal-Export' link='./feed/eo-events' link_
 target='' size='small' position='center' label_display='' title_attr='' ico
 n_select='yes' icon='ue85b' font='entypo-fontello' color='custom' custom_bg
 ='#b5123e' custom_font='#ffffff' av_uid='' id='' custom_class='' admin_prev
 iew_bg='']</p>
CATEGORIES:Europäisches / Internationales Recht,Recht interdisziplinär,Strafrecht
LOCATION:Online
GEO:0.000000;0.000000
ORGANIZER;CN="ViFa-Recht":MAILTO:vifa-recht@sbb.spk-berlin.de
URL;VALUE=URI:https://events.intrecht.de/termine/termin/the-principle-of-le
 gality-new-technology-and-the-rome-statute-the-case-of-cyber-operations-aga
 inst-civilian-data-mit-simon-mckenzie-online-vortrag/
END:VEVENT
BEGIN:VTIMEZONE
TZID:Europe/Berlin
BEGIN:STANDARD
TZOFFSETFROM:+0200
TZOFFSETTO:+0100
DTSTART:20201025T010000
TZNAME:CET
END:STANDARD
END:VTIMEZONE
END:VCALENDAR
