BEGIN:VCALENDAR
VERSION:2.0
PRODID:-//Events | FID-Recht//NONSGML Events//EN
CALSCALE:GREGORIAN
X-ORIGINAL-URL:https://events.intrecht.de/termine/
X-WR-CALDESC:Events | FID-Recht - Events
BEGIN:VEVENT
UID:20200603T1418Z-1591193923.3362-EO-587-1@172.16.200.141
STATUS:CONFIRMED
DTSTAMP:20260423T052753Z
CREATED:20250429T153237Z
LAST-MODIFIED:20250429T153237Z
DTSTART;VALUE=DATE:20251204
DTEND;VALUE=DATE:20251206
SUMMARY: The Principle of Good Faith in International and European Union La
 w (Conference)
DESCRIPTION: 4.-5.12.2025 / Ferrara (Einreichungsfrist: 22.6.2025) https://
 drive.google.com/file/d/1EhAguCVX10ouZZUJUA0s1f5d7j43RXKn/view
X-ALT-DESC;FMTTYPE=text/html: <p>4.-5.12.2025 / Ferrara <strong>(Einreichun
 gsfrist: 22.6.2025)</strong></p><p><a href="https://drive.google.com/file/d
 /1EhAguCVX10ouZZUJUA0s1f5d7j43RXKn/view">https://drive.google.com/file/d/1E
 hAguCVX10ouZZUJUA0s1f5d7j43RXKn/view</a></p><p>[av_button label='iCal-Expor
 t' link='./feed/eo-events' link_target='' size='small' position='center' la
 bel_display='' title_attr='' icon_select='yes' icon='ue85b' font='entypo-fo
 ntello' color='custom' custom_bg='#b5123e' custom_font='#ffffff' av_uid='' 
 id='' custom_class='' admin_preview_bg='']</p>
CATEGORIES:Europäisches / Internationales Recht
LOCATION:Ausland
GEO:0.000000;0.000000
ORGANIZER;CN="ViFa-Recht":MAILTO:vifa-recht@sbb.spk-berlin.de
URL;VALUE=URI:https://events.intrecht.de/termine/termin/the-principle-of-go
 od-faith-in-international-and-european-union-law-conference/
END:VEVENT
BEGIN:VTIMEZONE
TZID:Europe/Berlin
BEGIN:STANDARD
TZOFFSETFROM:+0200
TZOFFSETTO:+0100
DTSTART:20251026T010000
TZNAME:CET
END:STANDARD
END:VTIMEZONE
END:VCALENDAR
