BEGIN:VCALENDAR
VERSION:2.0
PRODID:-//Events | FID-Recht//NONSGML Events//EN
CALSCALE:GREGORIAN
X-ORIGINAL-URL:https://events.intrecht.de/termine/
X-WR-CALDESC:Events | FID-Recht - Events
BEGIN:VEVENT
UID:20220501T1422Z-1651414925.2637-EO-6791-1@172.16.200.141
STATUS:CONFIRMED
DTSTAMP:20260421T165756Z
CREATED:20220422T093658Z
LAST-MODIFIED:20220422T093658Z
DTSTART;VALUE=DATE:20220503
DTEND;VALUE=DATE:20220504
SUMMARY: The Preventive Turn in European Security Policy – Constitutional C
 hallenges from a Global Perspective (with Valsamis Mitsilegas) (Online-Vort
 rag)
DESCRIPTION: 3.5.2022\, Online HUCELL: Prof. Valsamis Mitsilegas am 3. Mai 
 2022 — DynamInt (hu-berlin.de)  
X-ALT-DESC;FMTTYPE=text/html: <p>3.5.2022\, Online</p><p><a href="https://w
 ww.rewi.hu-berlin.de/de/lf/oe/rhp/veranstaltungen/hucell/hucell-prof-valsam
 is-mitsilegas-am-5-mai-2022">HUCELL: Prof. Valsamis Mitsilegas am 3. Mai 20
 22 — DynamInt (hu-berlin.de)</a></p><p> </p><p>[av_button label='iCal-Expor
 t' link='./feed/eo-events' link_target='' size='small' position='center' la
 bel_display='' title_attr='' icon_select='yes' icon='ue85b' font='entypo-fo
 ntello' color='custom' custom_bg='#b5123e' custom_font='#ffffff' av_uid='' 
 id='' custom_class='' admin_preview_bg='']</p>
CATEGORIES:Europäisches / Internationales Recht
LOCATION:Online
GEO:0.000000;0.000000
ORGANIZER;CN="ViFa-Recht":MAILTO:vifa-recht@sbb.spk-berlin.de
URL;VALUE=URI:https://events.intrecht.de/termine/termin/the-preventive-turn
 -in-european-security-policy-constitutional-challenges-from-a-global-perspe
 ctive-with-valsamis-mitsilegas-online-vortrag/
END:VEVENT
BEGIN:VTIMEZONE
TZID:Europe/Berlin
BEGIN:DAYLIGHT
TZOFFSETFROM:+0100
TZOFFSETTO:+0200
DTSTART:20220327T010000
TZNAME:CEST
END:DAYLIGHT
END:VTIMEZONE
END:VCALENDAR
