BEGIN:VCALENDAR
VERSION:2.0
PRODID:-//Events | FID-Recht//NONSGML Events//EN
CALSCALE:GREGORIAN
X-ORIGINAL-URL:https://events.intrecht.de/termine/
X-WR-CALDESC:Events | FID-Recht - Events
BEGIN:VEVENT
UID:20200603T1418Z-1591193923.3362-EO-587-1@172.16.200.141
STATUS:CONFIRMED
DTSTAMP:20260425T164754Z
CREATED:20230705T092240Z
LAST-MODIFIED:20230705T092240Z
DTSTART;VALUE=DATE:20231102
DTEND;VALUE=DATE:20231104
SUMMARY: The Power to Pardon in Medieval and Early Modern Christianity: Exc
 eptions and Diversities (Internationale Tagung)
DESCRIPTION: 2.-3.11.2023 / Münster https://www.uni-muenster.de/EViR/verans
 taltungen/tagungenundworkshops/pardon.html
X-ALT-DESC;FMTTYPE=text/html: <p>2.-3.11.2023 / Münster</p><p><a href="http
 s://www.uni-muenster.de/EViR/veranstaltungen/tagungenundworkshops/pardon.ht
 ml">https://www.uni-muenster.de/EViR/veranstaltungen/tagungenundworkshops/p
 ardon.html</a></p><p>[av_button label='iCal-Export' link='./feed/eo-events'
  link_target='' size='small' position='center' label_display='' title_attr=
 '' icon_select='yes' icon='ue85b' font='entypo-fontello' color='custom' cus
 tom_bg='#b5123e' custom_font='#ffffff' av_uid='' id='' custom_class='' admi
 n_preview_bg='']</p>
CATEGORIES:Recht interdisziplinär
LOCATION:Inland
GEO:0.000000;0.000000
ORGANIZER;CN="ViFa-Recht":MAILTO:vifa-recht@sbb.spk-berlin.de
URL;VALUE=URI:https://events.intrecht.de/termine/termin/the-power-to-pardon
 -in-medieval-and-early-modern-christianity-exceptions-and-diversities-inter
 nationale-tagung/
END:VEVENT
BEGIN:VTIMEZONE
TZID:Europe/Berlin
BEGIN:STANDARD
TZOFFSETFROM:+0200
TZOFFSETTO:+0100
DTSTART:20231029T010000
TZNAME:CET
END:STANDARD
END:VTIMEZONE
END:VCALENDAR
