BEGIN:VCALENDAR
VERSION:2.0
PRODID:-//Events | FID-Recht//NONSGML Events//EN
CALSCALE:GREGORIAN
X-ORIGINAL-URL:https://events.intrecht.de/termine/
X-WR-CALDESC:Events | FID-Recht - Events
BEGIN:VEVENT
UID:20220611T1122Z-1654946530.66-EO-4021-1@172.16.200.151
STATUS:CONFIRMED
DTSTAMP:20260419T164008Z
CREATED:20220609T171738Z
LAST-MODIFIED:20220609T171738Z
DTSTART;VALUE=DATE:20220623
DTEND;VALUE=DATE:20220625
SUMMARY: The Power and Limits of Private Law (Tagung)
DESCRIPTION: 23.-24.6.2022\, Vancouver Canadian Law of Obligations III – Al
 lard Law & Green College\, The University of British Columbia\, June 23-24\
 , 2022 (ubc.ca)  
X-ALT-DESC;FMTTYPE=text/html: <p>23.-24.6.2022\, Vancouver</p><p><a href="h
 ttps://blogs.ubc.ca/clo3/">Canadian Law of Obligations III – Allard Law & G
 reen College\, The University of British Columbia\, June 23-24\, 2022 (ubc.
 ca)</a></p><p> </p><p>[av_button label='iCal-Export' link='./feed/eo-events
 ' link_target='' size='small' position='center' label_display='' title_attr
 ='' icon_select='yes' icon='ue85b' font='entypo-fontello' color='custom' cu
 stom_bg='#b5123e' custom_font='#ffffff' av_uid='' id='' custom_class='' adm
 in_preview_bg='']</p>
CATEGORIES:Zivilrecht
LOCATION:Ausland
GEO:0.000000;0.000000
ORGANIZER;CN="ViFa-Recht":MAILTO:vifa-recht@sbb.spk-berlin.de
URL;VALUE=URI:https://events.intrecht.de/termine/termin/the-power-and-limit
 s-of-private-law-tagung/
END:VEVENT
BEGIN:VTIMEZONE
TZID:Europe/Berlin
BEGIN:DAYLIGHT
TZOFFSETFROM:+0100
TZOFFSETTO:+0200
DTSTART:20220327T010000
TZNAME:CEST
END:DAYLIGHT
END:VTIMEZONE
END:VCALENDAR
