BEGIN:VCALENDAR
VERSION:2.0
PRODID:-//Events | FID-Recht//NONSGML Events//EN
CALSCALE:GREGORIAN
X-ORIGINAL-URL:https://events.intrecht.de/termine/
X-WR-CALDESC:Events | FID-Recht - Events
BEGIN:VEVENT
UID:20210124T1337Z-1611495430.6513-EO-3077-1@172.16.200.141
STATUS:CONFIRMED
DTSTAMP:20260423T004311Z
CREATED:20210122T162706Z
LAST-MODIFIED:20210122T162706Z
DTSTART;VALUE=DATE:20210125
DTEND;VALUE=DATE:20210125
SUMMARY: The populist transformation of constitutional law: Populist consti
 tutionalism and democratic representation (Konferenz) (CfP)
DESCRIPTION: 7.-8.5.2021\, Thessaloniki (Frist für Einreichungen: 25.1.2021
 ) https://www.popcon.gr/post/international-conference-thessaloniki-7-8-may-
 2021-call-for-papers?lang=en  
X-ALT-DESC;FMTTYPE=text/html: <p>7.-8.5.2021\, Thessaloniki (Frist für Einr
 eichungen: 25.1.2021)</p><p><a href="https://www.popcon.gr/post/internation
 al-conference-thessaloniki-7-8-may-2021-call-for-papers?lang=en">https://ww
 w.popcon.gr/post/international-conference-thessaloniki-7-8-may-2021-call-fo
 r-papers?lang=en</a></p><p> </p><p>[av_button label='iCal-Export' link='./f
 eed/eo-events' link_target='' size='small' position='center' label_display=
 '' title_attr='' icon_select='yes' icon='ue85b' font='entypo-fontello' colo
 r='custom' custom_bg='#b5123e' custom_font='#ffffff' av_uid='' id='' custom
 _class='' admin_preview_bg='']</p>
CATEGORIES:Öffentliches Recht
LOCATION:Ausland
GEO:0.000000;0.000000
ORGANIZER;CN="ViFa-Recht":MAILTO:vifa-recht@sbb.spk-berlin.de
URL;VALUE=URI:https://events.intrecht.de/termine/termin/the-populist-transf
 ormation-of-constitutional-law-populist-constitutionalism-and-democratic-re
 presentation-konferenz-cfp/
END:VEVENT
BEGIN:VTIMEZONE
TZID:Europe/Berlin
BEGIN:STANDARD
TZOFFSETFROM:+0200
TZOFFSETTO:+0100
DTSTART:20201025T010000
TZNAME:CET
END:STANDARD
END:VTIMEZONE
END:VCALENDAR
