BEGIN:VCALENDAR
VERSION:2.0
PRODID:-//Events | FID-Recht//NONSGML Events//EN
CALSCALE:GREGORIAN
X-ORIGINAL-URL:https://events.intrecht.de/termine/
X-WR-CALDESC:Events | FID-Recht - Events
BEGIN:VEVENT
UID:20200603T1418Z-1591193923.3362-EO-587-1@172.16.200.141
STATUS:CONFIRMED
DTSTAMP:20260423T054422Z
CREATED:20250407T142357Z
LAST-MODIFIED:20250407T143051Z
DTSTART;VALUE=DATE:20250826
DTEND;VALUE=DATE:20250830
SUMMARY: The Politics of Law and Courts (Conference)
DESCRIPTION: 26.-29.8.2025 / Thessaloniki https://ecpr.eu/Events/Event/Sect
 ionDetails/1489
X-ALT-DESC;FMTTYPE=text/html: <p>26.-29.8.2025 / Thessaloniki</p><p><a href
 ="https://ecpr.eu/Events/Event/SectionDetails/1489">https://ecpr.eu/Events/
 Event/SectionDetails/1489</a></p><p>[av_button label='iCal-Export' link='./
 feed/eo-events' link_target='' size='small' position='center' label_display
 ='' title_attr='' icon_select='yes' icon='ue85b' font='entypo-fontello' col
 or='custom' custom_bg='#b5123e' custom_font='#ffffff' av_uid='' id='' custo
 m_class='' admin_preview_bg='']</p>
CATEGORIES:Recht interdisziplinär
LOCATION:Ausland
GEO:0.000000;0.000000
ORGANIZER;CN="ViFa-Recht":MAILTO:vifa-recht@sbb.spk-berlin.de
URL;VALUE=URI:https://events.intrecht.de/termine/termin/the-politics-of-law
 -and-courts-conference/
END:VEVENT
BEGIN:VTIMEZONE
TZID:Europe/Berlin
BEGIN:DAYLIGHT
TZOFFSETFROM:+0100
TZOFFSETTO:+0200
DTSTART:20250330T010000
TZNAME:CEST
END:DAYLIGHT
END:VTIMEZONE
END:VCALENDAR
