BEGIN:VCALENDAR
VERSION:2.0
PRODID:-//Events | FID-Recht//NONSGML Events//EN
CALSCALE:GREGORIAN
X-ORIGINAL-URL:https://events.intrecht.de/termine/
X-WR-CALDESC:Events | FID-Recht - Events
BEGIN:VEVENT
UID:20210814T1745Z-1628963145.341-EO-4354-1@172.16.200.141
STATUS:CONFIRMED
DTSTAMP:20260421T102830Z
CREATED:20210811T190641Z
LAST-MODIFIED:20210811T190641Z
DTSTART;VALUE=DATE:20210820
DTEND;VALUE=DATE:20210821
SUMMARY: The Plurality of International Proceedings in an Era of Multiple C
 ourts (Laurence Boisson De Chazournes) (Online-Vortrag)
DESCRIPTION: 20.8.2021\, Online The Plurality of International Proceedings 
 in an Era of Multiple Courts Tickets\, Fri 20 Aug 2021 at 17:00 | Eventbrit
 e  
X-ALT-DESC;FMTTYPE=text/html: <p>20.8.2021\, Online</p><p><a href="https://
 www.eventbrite.co.uk/e/the-plurality-of-international-proceedings-in-an-era
 -of-multiple-courts-tickets-164533176159">The Plurality of International Pr
 oceedings in an Era of Multiple Courts Tickets\, Fri 20 Aug 2021 at 17:00 |
  Eventbrite</a></p><p> </p><p>[av_button label='iCal-Export' link='./feed/e
 o-events' link_target='' size='small' position='center' label_display='' ti
 tle_attr='' icon_select='yes' icon='ue85b' font='entypo-fontello' color='cu
 stom' custom_bg='#b5123e' custom_font='#ffffff' av_uid='' id='' custom_clas
 s='' admin_preview_bg='']</p>
CATEGORIES:Europäisches / Internationales Recht
LOCATION:Online
GEO:0.000000;0.000000
ORGANIZER;CN="ViFa-Recht":MAILTO:vifa-recht@sbb.spk-berlin.de
URL;VALUE=URI:https://events.intrecht.de/termine/termin/the-plurality-of-in
 ternational-proceedings-in-an-era-of-multiple-courts-laurence-boisson-de-ch
 azournes-online-vortrag/
END:VEVENT
BEGIN:VTIMEZONE
TZID:Europe/Berlin
BEGIN:DAYLIGHT
TZOFFSETFROM:+0100
TZOFFSETTO:+0200
DTSTART:20210328T010000
TZNAME:CEST
END:DAYLIGHT
END:VTIMEZONE
END:VCALENDAR
