BEGIN:VCALENDAR
VERSION:2.0
PRODID:-//Events | FID-Recht//NONSGML Events//EN
CALSCALE:GREGORIAN
X-ORIGINAL-URL:https://events.intrecht.de/termine/
X-WR-CALDESC:Events | FID-Recht - Events
BEGIN:VEVENT
UID:20200603T1418Z-1591193923.3362-EO-587-1@172.16.200.141
STATUS:CONFIRMED
DTSTAMP:20260422T225129Z
CREATED:20250110T143236Z
LAST-MODIFIED:20250110T143236Z
DTSTART;VALUE=DATE:20250911
DTEND;VALUE=DATE:20250914
SUMMARY: The Philosophy of Right and wrong: Hegel on crime\, transgression\
 , and injustice (Tagung)
DESCRIPTION: 11.-13.9.2025 / Freiburg (Einreichungsfrist: 28.2.2025) https:
 //csl.mpg.de/en/hegel/cfa
X-ALT-DESC;FMTTYPE=text/html: <p>11.-13.9.2025 / Freiburg <strong>(Einreich
 ungsfrist: 28.2.2025)</strong></p><p><a href="https://csl.mpg.de/en/hegel/c
 fa">https://csl.mpg.de/en/hegel/cfa</a></p><p>[av_button label='iCal-Export
 ' link='./feed/eo-events' link_target='' size='small' position='center' lab
 el_display='' title_attr='' icon_select='yes' icon='ue85b' font='entypo-fon
 tello' color='custom' custom_bg='#b5123e' custom_font='#ffffff' av_uid='' i
 d='' custom_class='' admin_preview_bg='']</p>
CATEGORIES:Recht interdisziplinär
LOCATION:Inland
GEO:0.000000;0.000000
ORGANIZER;CN="ViFa-Recht":MAILTO:vifa-recht@sbb.spk-berlin.de
URL;VALUE=URI:https://events.intrecht.de/termine/termin/the-philosophy-of-r
 ight-and-wrong-hegel-on-crime-transgression-and-injustice-tagung/
END:VEVENT
BEGIN:VTIMEZONE
TZID:Europe/Berlin
BEGIN:DAYLIGHT
TZOFFSETFROM:+0100
TZOFFSETTO:+0200
DTSTART:20250330T010000
TZNAME:CEST
END:DAYLIGHT
END:VTIMEZONE
END:VCALENDAR
