BEGIN:VCALENDAR
VERSION:2.0
PRODID:-//Events | FID-Recht//NONSGML Events//EN
CALSCALE:GREGORIAN
X-ORIGINAL-URL:https://events.intrecht.de/termine/
X-WR-CALDESC:Events | FID-Recht - Events
BEGIN:VEVENT
UID:20200603T1418Z-1591193923.3362-EO-587-1@172.16.200.141
STATUS:CONFIRMED
DTSTAMP:20260422T052835Z
CREATED:20240111T132526Z
LAST-MODIFIED:20240111T132633Z
DTSTART;VALUE=DATE:20240118
DTEND;VALUE=DATE:20240119
SUMMARY: The Persistence of the Punitive turn in Latin America: Conditions 
 and Dynamics (Vortrag)
DESCRIPTION: 18.1.2024 / Online und Oxford https://www.law.ox.ac.uk/content
 /event/persistence-punitive-turn-latin-america-conditions-and-dynamics
X-ALT-DESC;FMTTYPE=text/html: <p>18.1.2024 / Online und Oxford</p><p><a hre
 f="https://www.law.ox.ac.uk/content/event/persistence-punitive-turn-latin-a
 merica-conditions-and-dynamics">https://www.law.ox.ac.uk/content/event/pers
 istence-punitive-turn-latin-america-conditions-and-dynamics</a></p><p>[av_b
 utton label='iCal-Export' link='./feed/eo-events' link_target='' size='smal
 l' position='center' label_display='' title_attr='' icon_select='yes' icon=
 'ue85b' font='entypo-fontello' color='custom' custom_bg='#b5123e' custom_fo
 nt='#ffffff' av_uid='' id='' custom_class='' admin_preview_bg='']</p>
CATEGORIES:Recht interdisziplinär
LOCATION:Hybrid
GEO:0.000000;0.000000
ORGANIZER;CN="ViFa-Recht":MAILTO:vifa-recht@sbb.spk-berlin.de
URL;VALUE=URI:https://events.intrecht.de/termine/termin/the-persistence-of-
 the-punitive-turn-in-latin-america-conditions-and-dynamics-vortrag/
END:VEVENT
BEGIN:VTIMEZONE
TZID:Europe/Berlin
BEGIN:STANDARD
TZOFFSETFROM:+0200
TZOFFSETTO:+0100
DTSTART:20231029T010000
TZNAME:CET
END:STANDARD
END:VTIMEZONE
END:VCALENDAR
