BEGIN:VCALENDAR
VERSION:2.0
PRODID:-//Events | FID-Recht//NONSGML Events//EN
CALSCALE:GREGORIAN
X-ORIGINAL-URL:https://events.intrecht.de/termine/
X-WR-CALDESC:Events | FID-Recht - Events
BEGIN:VEVENT
UID:20200602T0945Z-1591091115.9737-EO-599-1@172.16.200.141
STATUS:CONFIRMED
DTSTAMP:20260423T055815Z
CREATED:20260413T102438Z
LAST-MODIFIED:20260413T102438Z
DTSTART;VALUE=DATE:20260512
DTEND;VALUE=DATE:20260513
SUMMARY: The Oxford Handbook of Women and International Law: A Book Discuss
 ion (Online Event)
DESCRIPTION: 12.5.2026 / Online https://law.mpg.de/event/the-oxford-handboo
 k-of-women-and-international-law-a-book-discussion/
X-ALT-DESC;FMTTYPE=text/html: <p>12.5.2026 / Online</p><p><a href="https://
 law.mpg.de/event/the-oxford-handbook-of-women-and-international-law-a-book-
 discussion/">https://law.mpg.de/event/the-oxford-handbook-of-women-and-inte
 rnational-law-a-book-discussion/</a></p><p>[av_button label='iCal-Export' l
 ink='./feed/eo-events' link_target='' size='small' position='center' label_
 display='' title_attr='' icon_select='yes' icon='ue85b' font='entypo-fontel
 lo' color='custom' custom_bg='#b5123e' custom_font='#ffffff' av_uid='' id='
 ' custom_class='' admin_preview_bg='']</p>
CATEGORIES:Recht interdisziplinär
LOCATION:Online
GEO:0.000000;0.000000
ORGANIZER;CN="ViFa-Recht":MAILTO:vifa-recht@sbb.spk-berlin.de
URL;VALUE=URI:https://events.intrecht.de/termine/termin/the-oxford-handbook
 -of-women-and-international-law-a-book-discussion-online-event/
END:VEVENT
BEGIN:VTIMEZONE
TZID:Europe/Berlin
BEGIN:DAYLIGHT
TZOFFSETFROM:+0100
TZOFFSETTO:+0200
DTSTART:20260329T010000
TZNAME:CEST
END:DAYLIGHT
END:VTIMEZONE
END:VCALENDAR
