BEGIN:VCALENDAR
VERSION:2.0
PRODID:-//Events | FID-Recht//NONSGML Events//EN
CALSCALE:GREGORIAN
X-ORIGINAL-URL:https://events.intrecht.de/termine/
X-WR-CALDESC:Events | FID-Recht - Events
BEGIN:VEVENT
UID:20220202T1956Z-1643831815.3427-EO-5679-1@172.16.200.141
STATUS:CONFIRMED
DTSTAMP:20260421T102523Z
CREATED:20220127T195032Z
LAST-MODIFIED:20220127T195032Z
DTSTART;VALUE=DATE:20220201
DTEND;VALUE=DATE:20220202
SUMMARY: The Ordoliberalism Debate (with Thomas F. Remington) (Online-Vortr
 ag)
DESCRIPTION: 1.2.2022\, Online Thomas F. Remington: The Ordoliberalism Deba
 te — Integrative Research Institute Law & Society (LSI) (hu-berlin.de)  
X-ALT-DESC;FMTTYPE=text/html: <p>1.2.2022\, Online</p><p><a href="https://w
 ww.rewi.hu-berlin.de/de/lf/oe/lsi/thomas-f-remington-the-ordoliberalism-deb
 ate">Thomas F. Remington: The Ordoliberalism Debate — Integrative Research 
 Institute Law & Society (LSI) (hu-berlin.de)</a></p><p> </p><p>[av_button l
 abel='iCal-Export' link='./feed/eo-events' link_target='' size='small' posi
 tion='center' label_display='' title_attr='' icon_select='yes' icon='ue85b'
  font='entypo-fontello' color='custom' custom_bg='#b5123e' custom_font='#ff
 ffff' av_uid='' id='' custom_class='' admin_preview_bg='']</p>
CATEGORIES:Recht interdisziplinär
LOCATION:Online
GEO:0.000000;0.000000
ORGANIZER;CN="ViFa-Recht":MAILTO:vifa-recht@sbb.spk-berlin.de
URL;VALUE=URI:https://events.intrecht.de/termine/termin/the-ordoliberalism-
 debate-with-thomas-f-remington-online-vortrag/
END:VEVENT
BEGIN:VTIMEZONE
TZID:Europe/Berlin
BEGIN:STANDARD
TZOFFSETFROM:+0200
TZOFFSETTO:+0100
DTSTART:20211031T010000
TZNAME:CET
END:STANDARD
END:VTIMEZONE
END:VCALENDAR
