BEGIN:VCALENDAR
VERSION:2.0
PRODID:-//Events | FID-Recht//NONSGML Events//EN
CALSCALE:GREGORIAN
X-ORIGINAL-URL:https://events.intrecht.de/termine/
X-WR-CALDESC:Events | FID-Recht - Events
BEGIN:VEVENT
UID:20201217T0332Z-1608175963.7757-EO-2729-1@172.16.200.141
STATUS:CONFIRMED
DTSTAMP:20260420T111723Z
CREATED:20201201T185611Z
LAST-MODIFIED:20201201T185611Z
DTSTART;VALUE=DATE:20201215
DTEND;VALUE=DATE:20201216
SUMMARY: The Normative Order of the Internet – A Theory of Rule and Regulat
 ion Online (Online-Vortrag)
DESCRIPTION: 15.12.2020\, Frankfurt (Main)/Online https://www.normativeorde
 rs.net/de/veranstaltungen/alleveranstaltungen/69-veranstaltungen/7792-the-n
 ormative-order-of-the-internet-a-theory-of-rule-and-regulation-online  
X-ALT-DESC;FMTTYPE=text/html: <p>15.12.2020\, Frankfurt (Main)/Online</p><p
 ><a href="https://www.normativeorders.net/de/veranstaltungen/alleveranstalt
 ungen/69-veranstaltungen/7792-the-normative-order-of-the-internet-a-theory-
 of-rule-and-regulation-online">https://www.normativeorders.net/de/veranstal
 tungen/alleveranstaltungen/69-veranstaltungen/7792-the-normative-order-of-t
 he-internet-a-theory-of-rule-and-regulation-online</a></p><p> </p><p>[av_bu
 tton label='iCal-Export' link='./feed/eo-events' link_target='' size='small
 ' position='center' label_display='' title_attr='' icon_select='yes' icon='
 ue85b' font='entypo-fontello' color='custom' custom_bg='#b5123e' custom_fon
 t='#ffffff' av_uid='' id='' custom_class='' admin_preview_bg='']</p>
CATEGORIES:Recht interdisziplinär
LOCATION:Online
GEO:0.000000;0.000000
ORGANIZER;CN="ViFa-Recht":MAILTO:vifa-recht@sbb.spk-berlin.de
URL;VALUE=URI:https://events.intrecht.de/termine/termin/the-normative-order
 -of-the-internet-a-theory-of-rule-and-regulation-online-online-vortrag/
END:VEVENT
BEGIN:VTIMEZONE
TZID:Europe/Berlin
BEGIN:STANDARD
TZOFFSETFROM:+0200
TZOFFSETTO:+0100
DTSTART:20201025T010000
TZNAME:CET
END:STANDARD
END:VTIMEZONE
END:VCALENDAR
