BEGIN:VCALENDAR
VERSION:2.0
PRODID:-//Events | FID-Recht//NONSGML Events//EN
CALSCALE:GREGORIAN
X-ORIGINAL-URL:https://events.intrecht.de/termine/
X-WR-CALDESC:Events | FID-Recht - Events
BEGIN:VEVENT
UID:20200603T1418Z-1591193923.3362-EO-587-1@172.16.200.141
STATUS:CONFIRMED
DTSTAMP:20260422T225123Z
CREATED:20241111T134828Z
LAST-MODIFIED:20241111T134828Z
DTSTART;VALUE=DATE:20241202
DTEND;VALUE=DATE:20241204
SUMMARY: The New Horizons of Global\, European\, and Comparative Health Law
  (Workshop)
DESCRIPTION: 2.-3.12.2024 / Berlin https://law.mpg.de/event/the-new-horizon
 s-of-global-european-and-comparative-health-law/
X-ALT-DESC;FMTTYPE=text/html: <p>2.-3.12.2024 / Berlin</p><p><a href="https
 ://law.mpg.de/event/the-new-horizons-of-global-european-and-comparative-hea
 lth-law/">https://law.mpg.de/event/the-new-horizons-of-global-european-and-
 comparative-health-law/</a></p><p>[av_button label='iCal-Export' link='./fe
 ed/eo-events' link_target='' size='small' position='center' label_display='
 ' title_attr='' icon_select='yes' icon='ue85b' font='entypo-fontello' color
 ='custom' custom_bg='#b5123e' custom_font='#ffffff' av_uid='' id='' custom_
 class='' admin_preview_bg='']</p>
CATEGORIES:Europäisches / Internationales Recht
LOCATION:Inland
GEO:0.000000;0.000000
ORGANIZER;CN="ViFa-Recht":MAILTO:vifa-recht@sbb.spk-berlin.de
URL;VALUE=URI:https://events.intrecht.de/termine/termin/the-new-horizons-of
 -global-european-and-comparative-health-law-workshop/
END:VEVENT
BEGIN:VTIMEZONE
TZID:Europe/Berlin
BEGIN:STANDARD
TZOFFSETFROM:+0200
TZOFFSETTO:+0100
DTSTART:20241027T010000
TZNAME:CET
END:STANDARD
END:VTIMEZONE
END:VCALENDAR
