BEGIN:VCALENDAR
VERSION:2.0
PRODID:-//Events | FID-Recht//NONSGML Events//EN
CALSCALE:GREGORIAN
X-ORIGINAL-URL:https://events.intrecht.de/termine/
X-WR-CALDESC:Events | FID-Recht - Events
BEGIN:VEVENT
UID:20200603T1418Z-1591193923.3362-EO-587-1@172.16.200.141
STATUS:CONFIRMED
DTSTAMP:20260422T211708Z
CREATED:20250310T141953Z
LAST-MODIFIED:20250310T141953Z
DTSTART;VALUE=DATE:20250317
DTEND;VALUE=DATE:20250318
SUMMARY: The new Belgian Law of Delict – Taking the Temperature of Emerging
  Tendencies (Hybrid Event)
DESCRIPTION: 17.3.2025 / Online und Hamburg https://events.mpipriv.de/b?p=n
 ew_belgian_law_of_delict
X-ALT-DESC;FMTTYPE=text/html: <p>17.3.2025 / Online und Hamburg</p><p><a hr
 ef="https://events.mpipriv.de/b?p=new_belgian_law_of_delict">https://events
 .mpipriv.de/b?p=new_belgian_law_of_delict</a></p><p>[av_button label='iCal-
 Export' link='./feed/eo-events' link_target='' size='small' position='cente
 r' label_display='' title_attr='' icon_select='yes' icon='ue85b' font='enty
 po-fontello' color='custom' custom_bg='#b5123e' custom_font='#ffffff' av_ui
 d='' id='' custom_class='' admin_preview_bg='']</p>
CATEGORIES:Zivilrecht
LOCATION:Hybrid
GEO:0.000000;0.000000
ORGANIZER;CN="ViFa-Recht":MAILTO:vifa-recht@sbb.spk-berlin.de
URL;VALUE=URI:https://events.intrecht.de/termine/termin/the-new-belgian-law
 -of-delict-taking-the-temperature-of-emerging-tendencies-hybrid-event/
END:VEVENT
BEGIN:VTIMEZONE
TZID:Europe/Berlin
BEGIN:STANDARD
TZOFFSETFROM:+0200
TZOFFSETTO:+0100
DTSTART:20241027T010000
TZNAME:CET
END:STANDARD
END:VTIMEZONE
END:VCALENDAR
