BEGIN:VCALENDAR
VERSION:2.0
PRODID:-//Events | FID-Recht//NONSGML Events//EN
CALSCALE:GREGORIAN
X-ORIGINAL-URL:https://events.intrecht.de/termine/
X-WR-CALDESC:Events | FID-Recht - Events
BEGIN:VEVENT
UID:20200603T1418Z-1591193923.3362-EO-587-1@172.16.200.141
STATUS:CONFIRMED
DTSTAMP:20260425T151120Z
CREATED:20230703T073326Z
LAST-MODIFIED:20230703T073326Z
DTSTART;VALUE=DATE:20230706
DTEND;VALUE=DATE:20230707
SUMMARY: The Nature and Scope of Global Health Law (Vortrag)
DESCRIPTION: 6.7.2023 / Online https://www.jura.uni-hannover.de/de/veransta
 ltungen/detailansicht-veranstaltungen/news/the-nature-and-scope-of-global-h
 ealth-law
X-ALT-DESC;FMTTYPE=text/html: <p>6.7.2023 / Online</p><p><a href="https://w
 ww.jura.uni-hannover.de/de/veranstaltungen/detailansicht-veranstaltungen/ne
 ws/the-nature-and-scope-of-global-health-law">https://www.jura.uni-hannover
 .de/de/veranstaltungen/detailansicht-veranstaltungen/news/the-nature-and-sc
 ope-of-global-health-law</a></p><p>[av_button label='iCal-Export' link='./f
 eed/eo-events' link_target='' size='small' position='center' label_display=
 '' title_attr='' icon_select='yes' icon='ue85b' font='entypo-fontello' colo
 r='custom' custom_bg='#b5123e' custom_font='#ffffff' av_uid='' id='' custom
 _class='' admin_preview_bg='']</p>
CATEGORIES:Europäisches / Internationales Recht
LOCATION:Online
GEO:0.000000;0.000000
ORGANIZER;CN="ViFa-Recht":MAILTO:vifa-recht@sbb.spk-berlin.de
URL;VALUE=URI:https://events.intrecht.de/termine/termin/the-nature-and-scop
 e-of-global-health-law-vortrag/
END:VEVENT
BEGIN:VTIMEZONE
TZID:Europe/Berlin
BEGIN:DAYLIGHT
TZOFFSETFROM:+0100
TZOFFSETTO:+0200
DTSTART:20230326T010000
TZNAME:CEST
END:DAYLIGHT
END:VTIMEZONE
END:VCALENDAR
