BEGIN:VCALENDAR
VERSION:2.0
PRODID:-//Events | FID-Recht//NONSGML Events//EN
CALSCALE:GREGORIAN
X-ORIGINAL-URL:https://events.intrecht.de/termine/
X-WR-CALDESC:Events | FID-Recht - Events
BEGIN:VEVENT
UID:20220416T0900Z-1650099644.6521-EO-6571-1@172.16.200.141
STATUS:CONFIRMED
DTSTAMP:20260421T164237Z
CREATED:20220405T122237Z
LAST-MODIFIED:20220405T122433Z
DTSTART;VALUE=DATE:20220908
DTEND;VALUE=DATE:20220910
SUMMARY: ‘The Natural’ in International Law (Workshop)
DESCRIPTION: 8.-9.9.2022\, Amsterdam (Frist für Einreichungen: 6.5.2022) ‘T
 he Natural’ in International Law – ACIL – University of Amsterdam (uva.nl) 
  
X-ALT-DESC;FMTTYPE=text/html: <p>8.-9.9.2022\, Amsterdam (Frist für Einreic
 hungen: 6.5.2022)</p><p><a href="https://acil.uva.nl/content/news/2022/03/n
 atural.html?origin=9Zsk4YOYR8m7UJ4RvzQFBA">‘The Natural’ in International L
 aw - ACIL - University of Amsterdam (uva.nl)</a></p><p> </p><p>[av_button l
 abel='iCal-Export' link='./feed/eo-events' link_target='' size='small' posi
 tion='center' label_display='' title_attr='' icon_select='yes' icon='ue85b'
  font='entypo-fontello' color='custom' custom_bg='#b5123e' custom_font='#ff
 ffff' av_uid='' id='' custom_class='' admin_preview_bg='']</p>
CATEGORIES:Europäisches / Internationales Recht
LOCATION:Ausland
GEO:0.000000;0.000000
ORGANIZER;CN="ViFa-Recht":MAILTO:vifa-recht@sbb.spk-berlin.de
URL;VALUE=URI:https://events.intrecht.de/termine/termin/the-natural-in-inte
 rnational-law-workshop/
END:VEVENT
BEGIN:VTIMEZONE
TZID:Europe/Berlin
BEGIN:DAYLIGHT
TZOFFSETFROM:+0100
TZOFFSETTO:+0200
DTSTART:20220327T010000
TZNAME:CEST
END:DAYLIGHT
END:VTIMEZONE
END:VCALENDAR
