BEGIN:VCALENDAR
VERSION:2.0
PRODID:-//Events | FID-Recht//NONSGML Events//EN
CALSCALE:GREGORIAN
X-ORIGINAL-URL:https://events.intrecht.de/termine/
X-WR-CALDESC:Events | FID-Recht - Events
BEGIN:VEVENT
UID:20200603T1418Z-1591193923.3362-EO-587-1@172.16.200.141
STATUS:CONFIRMED
DTSTAMP:20260425T215938Z
CREATED:20230406T121131Z
LAST-MODIFIED:20230406T121131Z
DTSTART;VALUE=DATE:20231201
DTEND;VALUE=DATE:20231203
SUMMARY: The Monroe Doctrine: History\, Interpretations\, Legacy (Konferenz
 )
DESCRIPTION: 1.-2.12.2023 / Frankfurt am Main (Frist für Einreichungen: 15.
 5.2023) https://voelkerrechtsblog.org/wp-content/uploads/2023/04/Call-for-p
 apers_Monroe-last.pdf
X-ALT-DESC;FMTTYPE=text/html: <p>1.-2.12.2023 / Frankfurt am Main <strong>(
 Frist für Einreichungen: 15.5.2023)</strong></p><p><a href="https://voelker
 rechtsblog.org/wp-content/uploads/2023/04/Call-for-papers_Monroe-last.pdf">
 https://voelkerrechtsblog.org/wp-content/uploads/2023/04/Call-for-papers_Mo
 nroe-last.pdf</a></p><p>[av_button label='iCal-Export' link='./feed/eo-even
 ts' link_target='' size='small' position='center' label_display='' title_at
 tr='' icon_select='yes' icon='ue85b' font='entypo-fontello' color='custom' 
 custom_bg='#b5123e' custom_font='#ffffff' av_uid='' id='' custom_class='' a
 dmin_preview_bg='']</p>
CATEGORIES:Recht interdisziplinär
LOCATION:Inland
GEO:0.000000;0.000000
ORGANIZER;CN="ViFa-Recht":MAILTO:vifa-recht@sbb.spk-berlin.de
URL;VALUE=URI:https://events.intrecht.de/termine/termin/the-monroe-doctrine
 -history-interpretations-legacy-konferenz/
END:VEVENT
BEGIN:VTIMEZONE
TZID:Europe/Berlin
BEGIN:STANDARD
TZOFFSETFROM:+0200
TZOFFSETTO:+0100
DTSTART:20231029T010000
TZNAME:CET
END:STANDARD
END:VTIMEZONE
END:VCALENDAR
