BEGIN:VCALENDAR
VERSION:2.0
PRODID:-//Events | FID-Recht//NONSGML Events//EN
CALSCALE:GREGORIAN
X-ORIGINAL-URL:https://events.intrecht.de/termine/
X-WR-CALDESC:Events | FID-Recht - Events
BEGIN:VEVENT
UID:20200603T1418Z-1591193923.3362-EO-587-1@172.16.200.141
STATUS:CONFIRMED
DTSTAMP:20260423T072140Z
CREATED:20250513T134820Z
LAST-MODIFIED:20250513T134820Z
DTSTART;VALUE=DATE:20260223
DTEND;VALUE=DATE:20260224
SUMMARY: The Mixed Courts of Egypt\, 1876-1949: between imperial internatio
 nalism and shared legal knowledge (Workshop)
DESCRIPTION: 23.2.2026 / Frankfurt am Main (Einreichungsfrist: 1.7.2025) ht
 tps://www.lhlt.mpg.de/4599495/the-mixed-courts-of-egypt-1876-1949.html
X-ALT-DESC;FMTTYPE=text/html: <p>23.2.2026 / Frankfurt am Main <strong>(Ein
 reichungsfrist: 1.7.2025)</strong></p><p><a href="https://www.lhlt.mpg.de/4
 599495/the-mixed-courts-of-egypt-1876-1949.html">https://www.lhlt.mpg.de/45
 99495/the-mixed-courts-of-egypt-1876-1949.html</a></p><p>[av_button label='
 iCal-Export' link='./feed/eo-events' link_target='' size='small' position='
 center' label_display='' title_attr='' icon_select='yes' icon='ue85b' font=
 'entypo-fontello' color='custom' custom_bg='#b5123e' custom_font='#ffffff' 
 av_uid='' id='' custom_class='' admin_preview_bg='']</p>
CATEGORIES:Recht interdisziplinär
LOCATION:Inland
GEO:0.000000;0.000000
ORGANIZER;CN="ViFa-Recht":MAILTO:vifa-recht@sbb.spk-berlin.de
URL;VALUE=URI:https://events.intrecht.de/termine/termin/the-mixed-courts-of
 -egypt-1876-1949-between-imperial-internationalism-and-shared-legal-knowled
 ge-workshop/
END:VEVENT
BEGIN:VTIMEZONE
TZID:Europe/Berlin
BEGIN:STANDARD
TZOFFSETFROM:+0200
TZOFFSETTO:+0100
DTSTART:20251026T010000
TZNAME:CET
END:STANDARD
END:VTIMEZONE
END:VCALENDAR
